BEGIN:VCALENDAR
VERSION:2.0
PRODID:-//ChamberMaster//Event Calendar 2.0//EN
METHOD:PUBLISH
X-PUBLISHED-TTL:P3D
REFRESH-INTERVAL:P3D
CALSCALE:GREGORIAN
BEGIN:VEVENT
DTSTART:20110506T170000Z
DTEND:20110507T230000Z
X-MICROSOFT-CDO-ALLDAYEVENT:FALSE
SUMMARY:Homestead Baptist Church Hosts World Vision's 30 Hour Famine
DESCRIPTION:The Firehearts Youth Group of Homestead Baptist Church will be fasting for 30 hours from 12 noon Friday May 6th to 6pm Saturday May 7th\, in order to raise money for children all around the world who are dying of malnutrition. Starvation is a major problem in the world today\; a child dies from hunger-related causes EVERY 10 SECONDS! World Vision is an organization that fights to stop hunger and we can help. Just $1 will provide food\, water\, health care\, education\, and economic opportunity to a child for a day. Our youth group is small and our goal for this year is to raise $1000\, but with your help we could do so much more. To donate or participate in the famine\, contact us at (402) 228-1563 or send your donations to:\n\nHomestead Baptist Church  \n\n424 Bell Street\n\nBeatrice NE 68310.\n\n100% of the donations we collect will go directly to World Vision and starving children\, but if you would feel more comfortable\, you can donate directly to World Vision on their website at www.worldvision.org \n\nWe can make a difference\; we can save a life.
X-ALT-DESC;FMTTYPE=text/html:The Firehearts Youth Group of Homestead Baptist Church will be fasting for 30 hours from 12 noon Friday May 6th to 6pm Saturday May 7th\, in order to raise money for children all around the world who are dying of malnutrition. Starvation is a major problem in the world today\; a child dies from hunger-related causes EVERY 10 SECONDS! World Vision is an organization that fights to stop hunger and we can help. Just $1 will provide food\, water\, health care\, education\, and economic opportunity to a child for a day. Our youth group is small and our goal for this year is to raise $1000\, but with your help we could do so much more. To donate or participate in the famine\, contact us at (402) 228-1563 or send your donations to:\n<br>Homestead Baptist Church  \n<br>424 Bell Street\n<br>Beatrice NE 68310.\n<br>100% of the donations we collect will go directly to World Vision and starving children\, but if you would feel more comfortable\, you can donate directly to World Vision on their website at www.worldvision.org \n<br>We can make a difference\; we can save a life.
LOCATION:Homestead Baptist Church 424 Bell Street Beatrice NE
UID:e.41.4600
SEQUENCE:3
DTSTAMP:20260424T184001Z
URL:https://business.beatricechamber.com/events/details/homestead-baptist-church-hosts-world-vision-s-30-hour-famine-05-06-2011-4600
END:VEVENT

END:VCALENDAR
