BEGIN:VCALENDAR
VERSION:2.0
PRODID:-//ChamberMaster//Event Calendar 2.0//EN
METHOD:PUBLISH
X-PUBLISHED-TTL:P3D
REFRESH-INTERVAL:P3D
CALSCALE:GREGORIAN
BEGIN:VEVENT
DTSTART;VALUE=DATE:20100319
DTEND;VALUE=DATE:20100320
TRANSP:TRANSPARENT
X-MICROSOFT-CDO-ALLDAYEVENT:TRUE
SUMMARY:Homestead Celebrates 74th Year
DESCRIPTION:Homestead National Monument of America Celebrates 74 years! Friday\, March 19\, 2010Program:  2 p.m.Education Center Admission is free of charge.  For additional information\, please call 223-3514 or visit www.nps.gov/home
X-ALT-DESC;FMTTYPE=text/html:<div>Homestead National Monument of America Celebrates 74 years!</div><div>&nbsp\;</div><div>Friday\, March 19\, 2010</div><div>Program:&nbsp\; 2 p.m.</div><div>Education Center</div><div>&nbsp\;</div><div>Admission is free of charge. &nbsp\;For additional information\, please call 223-3514 or visit <a href="http://www.nps.gov/home">www.nps.gov/home</a></div>
LOCATION:
UID:e.41.1695
SEQUENCE:3
DTSTAMP:20260425T153157Z
URL:https://business.beatricechamber.com/events/details/homestead-celebrates-74th-year-03-19-2010-1695
END:VEVENT

END:VCALENDAR
