BEGIN:VCALENDAR
VERSION:2.0
PRODID:-//ChamberMaster//Event Calendar 2.0//EN
METHOD:PUBLISH
X-PUBLISHED-TTL:P3D
REFRESH-INTERVAL:P3D
CALSCALE:GREGORIAN
BEGIN:VEVENT
DTSTART;VALUE=DATE:20100313
DTEND;VALUE=DATE:20100314
TRANSP:TRANSPARENT
X-MICROSOFT-CDO-ALLDAYEVENT:TRUE
SUMMARY:Homestead Choral Festival
DESCRIPTION:3rd Annual Homestead Choral FestivalConducted by Steve Yost Saturday\, March 13Christ Community Church Church choir festival\, open to all choirs & singers in the area.  For information\, contact Kevin Boesiger at Christ Community Church\, 223-5319 or email composerbo@windstream.net Visit www.distinctivenotes.com and click on "Homestead Choral Festival Banner" Sponsored by Distinctive Notes and Christ Community Church
X-ALT-DESC;FMTTYPE=text/html:<div>3rd Annual Homestead Choral Festival</div><div><div>Conducted by Steve Yost</div><div>&nbsp\;</div></div><div>Saturday\, March 13</div><div>Christ Community Church</div><div>&nbsp\;</div><div>Church choir festival\, open to all choirs &amp\;&nbsp\;singers in the area.&nbsp\; For information\, contact Kevin Boesiger at Christ Community Church\, 223-5319 or email <a href="mailto:composerbo@windstream.net">composerbo@windstream.net</a></div><div>&nbsp\;</div><div>Visit <a href="http://www.distinctivenotes.com">www.distinctivenotes.com</a> and click on &quot\;Homestead Choral Festival Banner&quot\;</div><div>&nbsp\;</div><div>Sponsored by Distinctive Notes and Christ Community Church</div>
LOCATION:
UID:e.41.1666
SEQUENCE:3
DTSTAMP:20260425T153354Z
URL:https://business.beatricechamber.com/events/details/homestead-choral-festival-03-13-2010-1666
END:VEVENT

END:VCALENDAR
