BEGIN:VCALENDAR
VERSION:2.0
PRODID:-//ChamberMaster//Event Calendar 2.0//EN
METHOD:PUBLISH
X-PUBLISHED-TTL:P3D
REFRESH-INTERVAL:P3D
CALSCALE:GREGORIAN
BEGIN:VEVENT
DTSTART;VALUE=DATE:20090617
DTEND;VALUE=DATE:20090618
TRANSP:TRANSPARENT
X-MICROSOFT-CDO-ALLDAYEVENT:TRUE
SUMMARY:HOMESTEAD DAYS
DESCRIPTION:9:00 AM   8:00 PM "The Art of Homesteading" @ Beatrice Public Library \nAn Exhibit of art and historic materials about homesteading displayed in the Norva Price Room at the Beatrice Public Library\, 223-3584.4:30 PM   7:00 PM "Habitat for Humanity Fundraiser" @ Centenary United Methodist Church\nDine In or Carry-out - Nebraska Corn Fed Beef Sandwich\, coleslaw\, chips\, cookies and drink- $7.00. The church is located at 608 Elk St. Proceeds to benefit Gage County Habitat for Humanity.   Info   Bob McClelland @ 228-3618 or Church Office 223-3424 \ne-mail rm53748@windsteam.net
X-ALT-DESC;FMTTYPE=text/html:<p>9:00 AM &ndash\; 8:00 PM&nbsp\;&quot\;The Art of Homesteading&quot\; @ Beatrice Public Library <br />An Exhibit of art and historic materials about homesteading displayed in the Norva Price Room at the Beatrice Public Library\, 223-3584.</p><p>4:30 PM &ndash\; 7:00 PM&nbsp\;&ldquo\;Habitat for Humanity Fundraiser&rdquo\; @ Centenary United Methodist Church<br />Dine In or Carry-out - Nebraska Corn Fed Beef Sandwich\, coleslaw\, chips\, cookies and drink- $7.00. The church is located at 608 Elk St. Proceeds to benefit Gage County Habitat for Humanity.&nbsp\;&nbsp\; Info &ndash\; Bob McClelland @ 228-3618 or Church Office 223-3424 <br />e-mail <a href="mailto:rm53748@windsteam.net">rm53748@windsteam.net</a></p>
LOCATION:
UID:e.41.1054
SEQUENCE:3
DTSTAMP:20260426T042723Z
URL:https://business.beatricechamber.com/events/details/homestead-days-06-17-2009-1054
END:VEVENT

END:VCALENDAR
