BEGIN:VCALENDAR
VERSION:2.0
PRODID:-//ChamberMaster//Event Calendar 2.0//EN
METHOD:PUBLISH
X-PUBLISHED-TTL:P3D
REFRESH-INTERVAL:P3D
CALSCALE:GREGORIAN
BEGIN:VEVENT
DTSTART:20110618T133000Z
DTEND:20110618T230000Z
X-MICROSOFT-CDO-ALLDAYEVENT:FALSE
SUMMARY:"Homestead Days 1936" -- Model A and Model T Car Show
DESCRIPTION:Homestead Days 1936 Model A and Model T Car Show\, 8:30 a.m.- 6 p.m. at the Homestead National Monument of America\, four miles west of Beatrice on Highway 4. \n\n\n\nOwners of cars from 1930s and 1940s may display their cars.\n\n\n\nFor more information\, call Park Ranger Susan Cook at 402-223-3514.
X-ALT-DESC;FMTTYPE=text/html:Homestead Days 1936 Model A and Model T Car Show\, 8:30 a.m.- 6 p.m. at the Homestead National Monument of America\, four miles west of Beatrice on Highway 4.&nbsp\;<br />\n<br />\nOwners of cars from 1930s and 1940s may display their cars.<br />\n<br />\nFor more information\, call Park Ranger Susan Cook at 402-223-3514.
LOCATION:
UID:e.41.4900
SEQUENCE:3
DTSTAMP:20260424T165927Z
URL:https://business.beatricechamber.com/events/details/homestead-days-1936-model-a-and-model-t-car-show-06-18-2011-4900
END:VEVENT

END:VCALENDAR
