BEGIN:VCALENDAR
VERSION:2.0
PRODID:-//ChamberMaster//Event Calendar 2.0//EN
METHOD:PUBLISH
X-PUBLISHED-TTL:P3D
REFRESH-INTERVAL:P3D
CALSCALE:GREGORIAN
BEGIN:VEVENT
DTSTART;VALUE=DATE:20100615
DTEND;VALUE=DATE:20100621
TRANSP:TRANSPARENT
X-MICROSOFT-CDO-ALLDAYEVENT:TRUE
SUMMARY:Homestead Days 2010
DESCRIPTION:Join in the Homestead Days Family Fun!Beatrice\, Nebraska For a complete schedule of events check out our Homestead Days Brochure! Click here for the 2010 Homestead Days Brochure  SATURDAY\, JUNE 12TH 11 AM   Midnight Blue River Jam @ Riverside Park SUNDAY\, JUNE 13TH 12:30 PM Nebraska Walleye Association Beatrice Kid's Fishing Clinic @ Rockford Lake\, East Side\, Area 47 PM Gage County Historical Society Band @ Chautauqua Park Tabernacle MONDAY\, JUNE 14TH 2 PM Naturalization Ceremony @ Homestead National Monument of America TUESDAY\, JUNE 15TH 2 & 7:30 PM "Train Songs and Tales of the Western Rails"\,Presented by David Seay @ Beatrice Public Library WEDNESDAY\, JUNE 16TH 9 AM   8 PM "Stoneware Crockery Exhibit" @ Beatrice Public Library (June 16-20)4:30 PM   6:30 PM "Habitat for Humanity Fundraiser"@ Centenary United Methodist Church THURSDAY\, JUNE 17th 9 AM - 5 PM "To Save\, Protect\, and Serve"   Celebrating 100+ Years of Service @ Gage County Museum (June 17-20)9 AM   8 PM "Stoneware Crockery Exhibit" @ Beatrice Public Library (June 16-20)2:30 PM Rib Contest Judging & Award Ceremony @ Corner of 4th & Ella Streets5 PM   11 PM BBQ & Food @ Corner of 4th & Ella StreetsTasty BBQ\, Kids Rides & Games\, Kids Hog Calling Contest\, Entertainment\, Farmers Market\, Porky the Pig\, VIP Beer Garden with Live Blues Band.  Sponsored by Main Street Beatrice5 PM   11 PM FAMILY FUN! @ Ella Street from 4th-6th and 5th Street from Court to High5 PM - 7 PM Farmers Market @ 5th Street next to Beatrice Public School Administration Bldg FRIDAY\, JUNE 18TH 7 AM   9 AM Pancake Feed @ First National Bank   Beatrice Parking Lot9 AM   6 PM "Stoneware Crockery Exhibit" @ Beatrice Public Library (June 16-20)10 AM   5 PM Railroad Dining Car China @ Homestead National Monument (June 18-20)12 PM - 5 PM Traditional Craft Demonstrations around the Visitors Center @ Homestead National Monument (June 18-20)1 PM & 3 PM Excess Baggage: Riding the Orphan Train @ Homestead National Monument of America2 PM Fencing\, the Windmill and the Steel Plow @ Homestead National Monument of America(June 19 & 20)5 PM - 8 PM FAMILY FUN NIGHT @ Beatrice High School5 PM Chicken BBQ @ Senior Center6 PM Bingo @ Senior Center6 PM Shawn Gregory Magic Show @ Beatrice High School in the Commons6 PM   9 PM TEEN NIGHT @ Big Blue Water Park6:30 PM Little Tuggers @ Beatrice High School8:30 PM   Midnight Homestead Days Street Dance with Music by "Cactus Hill" @ Risky's II Sports Bar SATURDAY\, JUNE 19TH 8 AM - 8 PM Commercial Vendors @ Chautauqua Park8 AM - 8 PM 42nd Annual Jayhusker Swap & Flea Market @ Chautauqua Park (June 20 & 21)8 AM - 8 PM Antique Tractors and Farm Equipment @ Chautauqua Park8 AM   4 PM Outlaw Car Show @ Risky's II Sports Bar8:55 AM "Big Blue Kids Fun" Run on Parade Route\, Court Street8:55 AM Beatrice Flying Conestoga's Fly-Over   Kick off the Parade!9 AM Noon-Kiwanis Parade on Court Street9 AM   5 PM 5th Annual Train Show @ 923 West Court St. (Goossen's Building)9 AM   6 PM "Stoneware Crockery Exhibit" @ Beatrice Public Library (June 16-20)10 AM - 5 PM Traditional Craft Demonstrations around the Visitors Center @ Homestead National Monument (June 18-20)10 AM   5 PM Lincoln Amateur Radio Club @ Homestead National Monument & Chautauqua Park (June 19 & 20)10:30 AM   1 PM LUNCH @ Beatrice Eagles Club\, 111 S 8th St.10 AM   12 PM FREE AIRPLANE RIDES FOR KIDS @ Beatrice Municipal Airport10 AM   2 PM Flying Conestoga's Fly-In @ Beatrice Municipal Airport11 AM   12 The Stilt Walker @ Chautauqua Park11 AM 1 PM LUNCH @ Beatrice Municipal Airport11 AM 2 PM Valentino's Restaurant - After the Parade - Kids Eat Free Buffet with dining adult. (2 children per adult)11 AM-5 PM Gary Keenan-Chainsaw Artist @ Chautauqua Park11 AM-6 PM Food Vendors @ Chautauqua Park.11 AM-6 PM Fun Sector   Inflatables @ Chautauqua Park11 AM-6 PM J & J Pony Rides @ Chautauqua Park12 PM Horseshoe Tournament @ Chautauqua Park1 PM Shawn Gregory Magic Show @ Chautauqua Park1 PM BHS Orange Booster Club Golf Tournament Fundraiser @ Beatrice Country Club (For more information or to register\, contact Ann Manes 402-806-1216 or Scott Knispel 402-228-3352.)1 PM Orphan Trains: Tears on paper by Patricia Young @ Homestead National Monument (June 19 & 20)2 PM Tug   O   War @ Corner of 2nd & Ella Streets (Behind Fire Department building)2 PM A Musical Journey Across America: Songs That Helped Shape A Nation @ Homestead National Monument3 PM Winslow Harvey Girls @ Homestead National Monument of America (June 19 & 20)6 PM Shawn Gregory Magic Show @ Chautauqua Park6:30 PM Dance Performance by Club Kicks Beatrice Dance & Cheer @ Chautauqua Park7:00 PM Dance Performance by Reflections of Soul Dance Studio @ Chautauqua Park7:30 PM The Gage County Historical Society Band @ Chautauqua Park8:30 PM Homestead Harmonizers @ Chautauqua Park9:15 PM (Dusk) Fireworks Extravaganza @ Chautauqua Park SUNDAY\, JUNE 20th 7:30 AM START "Bow 'N Go" Triathlon   Archery\, Cycling & Running (Registration 6:45 am   7:30 am)7:30 AM START Homestead Days 10K & 2 Mile Run/Walk (Registration 6:45 am   7:30 am)8 AM - 5 PM Commercial Vendors @ Chautauqua Park8 AM - 5 PM 42nd Annual Jayhusker Swap & Flea Market @ Chautauqua Park8 AM - 5 PM Antique Tractors and Farm Equipment @ Chautauqua Park8:30 10:30AM Father's Day Breakfast\, Knights of Columbus @ Chautauqua Park\, West Shelter10 AM   4 PM 5th Annual Train Show @ 923 West Court St. (Goossen's Building)10 AM - 5 PM Traditional Craft Demonstrations around the Visitors Center @ Homestead National Monument (June 18-20)10:30 AM Community Worship Services @ Tabernacle in Chautauqua Park10:30 AM Disc Golf @ Chautauqua Park12:00   4 PM Homestead Hot Rods Classic Car Show @ Chautauqua Park  (Pre-registration: $15\; Day of event: $20\, RSVP to Jara Carlson\, 402-223-3100\, jcarlson1@farmersagent.com\, 2301 Court Street\, Beatrice\, NE 68310\; Ashley Stawniak\, 223-3100\, ashley.jcarlson1@farmersagency.com)  Sponsored by Farmers Insurance Group\, Carlson Agency2   5 PM "Stoneware Crockery Exhibit" @ Beatrice Public Library (June 16-20)4 PM A Musical Journey Across America: Songs That Helped Shape A Nation @ Homestead National Monument
X-ALT-DESC;FMTTYPE=text/html:<div>&nbsp\;</div><div><span style="font-size: medium"><div align="center"><span style="font-family: Tahoma"><b>Join in the Homestead Days Family Fun!</b></span></div><div align="center"><span style="font-family: Tahoma"><b>Beatrice\, Nebraska</b></span></div><div align="center">&nbsp\;</div><div style="text-align: center"><b><i>For a complete schedule of events check out our Homestead Days Brochure!</i></b><span style="font-size: small"><b><i>&nbsp\;</i></b></span><span style="font-size: small"><b><span style="font-family: Tahoma"><span style="font-size: medium"><a href="http://secure.chambermaster.com/FCKeditor/UserFiles/chambers/41/File/2010%20HD%20Brochure.pdf"><span style="font-size: small">Click here for the 2010 Homestead Days Brochure</span></a></span></span></b></span></div><div style="text-align: center">&nbsp\;</div><div style="text-align: left">&nbsp\;</div><div style="text-align: center"><b><font size="1" face="AGaramond-Bold"><font size="1" face="AGaramond-Bold"><p align="left"><u><span style="font-size: small">SATURDAY\, JUNE 12TH</span></u></p></font></font></b></div><div style="text-align: left">&nbsp\;<b><font size="1" face="AGaramond-Regular"><font size="1" face="AGaramond-Regular"><span style="font-size: small">11 AM &ndash\; Midnight Blue River Jam @ Riverside Park</span></font></font></b><div style="text-align: left">&nbsp\;</div><div style="text-align: center"><b><b><font size="1" face="AGaramond-Bold"><font size="1" face="AGaramond-Bold"><p align="left"><u><span style="font-size: small">SUNDAY\, JUNE 13TH</span></u></p></font></font></b></b></div><div style="text-align: left">&nbsp\;<b><b><font size="1" face="AGaramond-Regular"><font size="1" face="AGaramond-Regular"><span style="font-size: small">12:30 PM Nebraska Walleye Association Beatrice Kid&rsquo\;s Fishing Clinic @ Rockford Lake\, East Side\, Area 4</span></font></font></b></b></div><div style="text-align: center"><p style="text-align: left"><span style="font-size: small">7 PM Gage County Historical Society Band @ Chautauqua Park Tabernacle</span></p></div><div style="text-align: left">&nbsp\;<b><b><b><font size="1" face="AGaramond-Bold"><font size="1" face="AGaramond-Bold"><u><span style="font-size: small">MONDAY\, JUNE 14TH</span></u></font></font></b></b></b><div style="text-align: left">&nbsp\;<b><b><b><font size="1" face="AGaramond-Regular"><font size="1" face="AGaramond-Regular"><span style="font-size: small">2 PM Naturalization Ceremony @ Homestead National Monument of America</span></font></font></b></b></b><div style="text-align: left">&nbsp\;</div><div style="text-align: center"><b><b><b><b><font size="1" face="AGaramond-Bold"><font size="1" face="AGaramond-Bold"><p align="left"><u><span style="font-size: small">TUESDAY\, JUNE 15TH</span></u></p></font></font></b></b></b></b></div><div style="text-align: left">&nbsp\;<b><b><b><b><font size="1" face="AGaramond-Regular"><font size="1" face="AGaramond-Regular"><span style="font-size: small">2 &amp\; 7:30 PM &ldquo\;Train Songs and Tales of the Western Rails&rdquo\;\,Presented by David Seay @ Beatrice Public Library</span></font></font></b></b></b></b><div style="text-align: left">&nbsp\;</div><div style="text-align: center"><b><b><b><b><b><font size="1" face="AGaramond-Bold"><font size="1" face="AGaramond-Bold"><p align="left"><u><span style="font-size: small">WEDNESDAY\, JUNE 16TH</span></u></p></font></font></b></b></b></b></b></div><div style="text-align: left">&nbsp\;<b><b><b><b><b><font size="1" face="AGaramond-Regular"><font size="1" face="AGaramond-Regular"><span style="font-size: small">9 AM &ndash\; 8 PM &ldquo\;Stoneware Crockery Exhibit&rdquo\; @ Beatrice Public Library (June 16-20)</span></font></font></b></b></b></b></b></div><div style="text-align: center"><p style="text-align: left"><span style="font-size: small">4:30 PM &ndash\; 6:30 PM &ldquo\;Habitat for Humanity Fundraiser&rdquo\;@ Centenary United Methodist Church</span></p></div><div style="text-align: left">&nbsp\;</div><div style="text-align: center"><b><b><b><b><b><b><font size="1" face="AGaramond-Bold"><font size="1" face="AGaramond-Bold"><p align="left"><u><span style="font-size: small">THURSDAY\, JUNE 17th</span></u></p></font></font></b></b></b></b></b></b></div><div style="text-align: left">&nbsp\;<b><b><b><b><b><b><font size="1" face="AGaramond-Regular"><font size="1" face="AGaramond-Regular"><span style="font-size: small">9 AM - 5 PM &ldquo\;To Save\, Protect\, and Serve&rdquo\; &ndash\; Celebrating 100+ Years of Service @ Gage County Museum (June 17-20)</span></font></font></b></b></b></b></b></b></div><div style="text-align: center"><p style="text-align: left"><span style="font-size: small">9 AM &ndash\; 8 PM &ldquo\;Stoneware Crockery Exhibit&rdquo\; @ Beatrice Public Library (June 16-20)</span></p><p style="text-align: left"><span style="font-size: small">2:30 PM Rib Contest Judging &amp\; Award Ceremony @ Corner of 4th &amp\; Ella Streets</span></p><p style="text-align: left"><span style="font-size: small">5&nbsp\;PM &ndash\; 11 PM BBQ &amp\; Food @ Corner of 4th &amp\; Ella Streets</span></p><p style="text-align: left"><span style="font-size: x-small">Tasty BBQ\, Kids Rides &amp\;&nbsp\;Games\, Kids Hog Calling Contest\, Entertainment\, Farmers Market\, Porky the Pig\, VIP&nbsp\;Beer Garden with Live Blues Band.&nbsp\; Sponsored by Main Street Beatrice</span></p><p style="text-align: left"><span style="font-size: small">5&nbsp\;PM &ndash\;&nbsp\;11 PM FAMILY FUN! @ Ella Street from 4th-6th and 5th Street from Court to High</span></p><p style="text-align: left"><span style="font-size: small">5 PM - 7 PM Farmers Market @ 5th Street next to Beatrice Public School Administration Bldg</span></p></div><div style="text-align: left">&nbsp\;<b><b><b><b><b><b><b><font size="1" face="AGaramond-Bold"><font size="1" face="AGaramond-Bold"><u><span style="font-size: small">FRIDAY\, JUNE 18TH</span></u></font></font></b></b></b></b></b></b></b><div style="text-align: left">&nbsp\;</div><div style="text-align: center"><b><b><b><b><b><b><b><font size="1" face="AGaramond-Regular"><font size="1" face="AGaramond-Regular"><p align="left"><span style="font-size: small">7 AM &ndash\; 9 AM Pancake Feed @ First National Bank &ndash\; Beatrice Parking Lot</span></p><p style="text-align: left"><span style="font-size: small">9 AM &ndash\; 6 PM &ldquo\;Stoneware Crockery Exhibit&rdquo\; @ Beatrice Public Library (June 16-20)</span></p><p style="text-align: left"><span style="font-size: small">10 AM &ndash\; 5 PM Railroad Dining Car China @ Homestead National Monument (June 18-20)</span></p><p style="text-align: left"><span style="font-size: small">12 PM - 5 PM Traditional Craft Demonstrations around the Visitors Center @ Homestead National Monument (June 18-20)</span></p><p style="text-align: left"><span style="font-size: small">1 PM &amp\; 3 PM Excess Baggage: Riding the Orphan Train @ Homestead National Monument of America</span></p><p style="text-align: left"><span style="font-size: small">2 PM Fencing\, the Windmill and the Steel Plow @ Homestead National Monument of America</span></p><p style="text-align: left"><span style="font-size: small">(June 19 &amp\; 20)</span></p><p style="text-align: left"><span style="font-size: small">5 PM - 8 PM FAMILY FUN NIGHT @ Beatrice High School</span></p><p style="text-align: left"><span style="font-size: small">5 PM Chicken BBQ @ Senior Center</span></p><p style="text-align: left"><span style="font-size: small">6 PM Bingo @ Senior Center</span></p><p style="text-align: left"><span style="font-size: small">6 PM Shawn Gregory Magic Show @ Beatrice High School in the Commons</span></p><p style="text-align: left"><span style="font-size: small">6 PM &ndash\; 9 PM TEEN NIGHT @ Big Blue Water Park</span></p><p style="text-align: left"><span style="font-size: small">6:30 PM Little Tuggers @ Beatrice High School</span></p><p style="text-align: left"><span style="font-size: small">8:30 PM &ndash\; Midnight Homestead Days Street Dance with Music by &ldquo\;Cactus Hill&rdquo\; @ Risky&rsquo\;s II Sports Bar</span></p></font></font></b></b></b></b></b></b></b></div><div style="text-align: left">&nbsp\;</div><div style="text-align: center"><b><b><b><b><b><b><b><b><font size="1" face="AGaramond-Bold"><font size="1" face="AGaramond-Bold"><p align="left"><u><span style="font-size: small">SATURDAY\, JUNE 19TH</span></u></p></font></font></b></b></b></b></b></b></b></b></div><div style="text-align: left">&nbsp\;<b><b><b><b><b><b><b><b><font size="1" face="AGaramond-Regular"><font size="1" face="AGaramond-Regular"><span style="font-size: small">8 AM - 8 PM Commercial Vendors @ Chautauqua Park</span></font></font></b></b></b></b></b></b></b></b></div><div style="text-align: center"><p style="text-align: left"><span style="font-size: small">8 AM - 8 PM 42nd Annual Jayhusker Swap &amp\; Flea Market @ Chautauqua Park (June 20 &amp\; 21)</span></p><p style="text-align: left"><span style="font-size: small">8 AM - 8 PM Antique Tractors and Farm Equipment @ Chautauqua Park</span></p><p style="text-align: left"><span style="font-size: small">8 AM &ndash\; 4 PM Outlaw Car Show @ Risky&rsquo\;s II Sports Bar</span></p><p style="text-align: left"><span style="font-size: small">8:55 AM &ldquo\;Big Blue Kids Fun&rdquo\; Run on Parade Route\, Court Street</span></p><p style="text-align: left"><span style="font-size: small">8:55 AM Beatrice Flying Conestoga&rsquo\;s Fly-Over &ndash\; Kick off the Parade!</span></p><p style="text-align: left"><span style="font-size: small">9 AM Noon-Kiwanis Parade on Court Street</span></p><p style="text-align: left"><span style="font-size: small">9 AM &ndash\; 5 PM 5th Annual Train Show @ 923 West Court St. (Goossen&rsquo\;s Building)</span></p><p style="text-align: left"><span style="font-size: small">9 AM &ndash\; 6 PM &ldquo\;Stoneware Crockery Exhibit&rdquo\; @ Beatrice Public Library (June 16-20)</span></p><p style="text-align: left"><span style="font-size: small">10 AM - 5 PM Traditional Craft Demonstrations around the Visitors Center @ Homestead National Monument (June 18-20)</span></p><p style="text-align: left"><span style="font-size: small">10 AM &ndash\; 5 PM Lincoln Amateur Radio Club @ Homestead National Monument &amp\; Chautauqua Park (June 19 &amp\; 20)</span></p><p style="text-align: left"><span style="font-size: small">10:30 AM &ndash\; 1 PM LUNCH @ Beatrice Eagles Club\, 111 S 8th St.</span></p><p style="text-align: left"><span style="font-size: small">10 AM &ndash\; 12 PM FREE AIRPLANE RIDES FOR&nbsp\;KIDS&nbsp\;@ Beatrice Municipal Airport</span></p><p style="text-align: left"><span style="font-size: small">10 AM &ndash\; 2 PM Flying Conestoga&rsquo\;s Fly-In @ Beatrice Municipal Airport</span></p><p style="text-align: left"><span style="font-size: small">11 AM &ndash\; 12 The Stilt Walker @ Chautauqua Park</span></p><p style="text-align: left"><span style="font-size: small">11 AM&ndash\;1 PM LUNCH @ Beatrice Municipal Airport</span></p><p style="text-align: left"><span style="font-size: small">11 AM&ndash\;2 PM Valentino&rsquo\;s Restaurant - After the Parade - Kids Eat Free Buffet with dining adult. (2 children per adult)</span></p><p style="text-align: left"><span style="font-size: small">11 AM-5 PM Gary Keenan-Chainsaw Artist @ Chautauqua Park</span></p><p style="text-align: left"><span style="font-size: small">11 AM-6 PM Food Vendors @ Chautauqua Park.</span></p><p style="text-align: left"><span style="font-size: small">11 AM-6 PM Fun Sector &ndash\; Inflatables @ Chautauqua Park</span></p><p style="text-align: left"><span style="font-size: small">11 AM-6 PM J &amp\; J Pony Rides @ Chautauqua Park</span></p><p style="text-align: left"><span style="font-size: small">12 PM Horseshoe Tournament @ Chautauqua Park</span></p><p style="text-align: left"><span style="font-size: small">1 PM Shawn Gregory Magic Show @ Chautauqua Park</span></p><p style="text-align: left"><span style="font-size: small">1 PM BHS Orange Booster Club Golf Tournament Fundraiser @ Beatrice Country Club </span><span style="font-size: x-small"><span style="font-family: Tahoma">(For more information or to register\, contact Ann Manes 402-806-1216 or Scott Knispel 402-228-3352.)</span></span></p><p style="text-align: left"><span style="font-size: small">1 PM Orphan Trains: Tears on paper by Patricia Young @ Homestead National Monument (June 19 &amp\; 20)</span></p><p style="text-align: left"><span style="font-size: small">2 PM Tug &ndash\; O &ndash\; War @ Corner of 2nd &amp\; Ella Streets (Behind Fire Department building)</span></p><p style="text-align: left"><span style="font-size: small">2 PM A Musical Journey Across America: Songs That Helped Shape A Nation @ Homestead National Monument</span></p><p style="text-align: left"><span style="font-size: small">3 PM Winslow Harvey Girls @ Homestead National Monument of America (June 19 &amp\; 20)</span></p><p style="text-align: left"><span style="font-size: small">6 PM Shawn Gregory Magic Show @ Chautauqua Park</span></p><p style="text-align: left"><span style="font-size: small">6:30 PM Dance Performance by Club Kicks Beatrice Dance &amp\; Cheer @ Chautauqua Park</span></p><p style="text-align: left"><span style="font-size: small">7:00 PM Dance Performance by Reflections of Soul Dance Studio @ Chautauqua Park</span></p><p style="text-align: left"><span style="font-size: small">7:30 PM The Gage County Historical Society Band @ Chautauqua Park</span></p><p style="text-align: left"><span style="font-size: small">8:30 PM Homestead Harmonizers @ Chautauqua Park</span></p><p style="text-align: left"><span style="font-size: small">9:15 PM (Dusk) Fireworks Extravaganza @ Chautauqua Park</span></p></div><div style="text-align: left">&nbsp\;</div><div style="text-align: center"><b><b><b><b><b><b><b><b><b><font size="1" face="AGaramond-Bold"><font size="1" face="AGaramond-Bold"><p align="left"><u><span style="font-size: small">SUNDAY\, JUNE 20th</span></u></p></font></font></b></b></b></b></b></b></b></b></b></div><div style="text-align: left">&nbsp\;<b><b><b><b><b><b><b><b><b><font size="1" face="AGaramond-Regular"><font size="1" face="AGaramond-Regular"><span style="font-size: small">7:30 AM START &ldquo\;Bow &lsquo\;N Go&rdquo\; Triathlon &ndash\; Archery\, Cycling &amp\; Running (Registration 6:45 am &ndash\; 7:30 am)</span></font></font></b></b></b></b></b></b></b></b></b></div><div style="text-align: center"><p style="text-align: left"><span style="font-size: small">7:30 AM START Homestead Days 10K &amp\; 2 Mile Run/Walk (Registration 6:45 am &ndash\; 7:30 am)</span></p><p style="text-align: left"><span style="font-size: small">8 AM - 5 PM Commercial Vendors @ Chautauqua Park</span></p><p style="text-align: left"><span style="font-size: small">8 AM - 5 PM 42nd Annual Jayhusker Swap &amp\; Flea Market @ Chautauqua Park</span></p><p style="text-align: left"><span style="font-size: small">8 AM - 5 PM Antique Tractors and Farm Equipment @ Chautauqua Park</span></p><p style="text-align: left"><span style="font-size: small">8:30&ndash\;10:30AM Father&rsquo\;s Day Breakfast\, Knights of Columbus @ Chautauqua Park\, West Shelter</span></p><p style="text-align: left"><span style="font-size: small">10 AM &ndash\; 4 PM 5th Annual Train Show @ 923 West Court St. (Goossen&rsquo\;s Building)</span></p><p style="text-align: left"><span style="font-size: small">10 AM - 5 PM Traditional Craft Demonstrations around the Visitors Center @ Homestead National Monument (June 18-20)</span></p><p style="text-align: left"><span style="font-size: small">10:30 AM Community Worship Services @ Tabernacle in Chautauqua Park</span></p><p style="text-align: left"><span style="font-size: small">10:30 AM Disc Golf @ Chautauqua Park</span></p><p style="text-align: left"><span style="font-size: small">12:00 &ndash\; 4 PM Homestead Hot </span><span style="font-size: small">Rods Classic Car Show @ Chautauqua Park</span>&nbsp\; <span style="font-family: Tahoma">(Pre-registration: $15\; Day of event: $20\, RSVP to Jara Carlson\, 402-223-3100\, </span><a href="mailto:jcarlson1@farmersagent.com"><span style="font-family: Tahoma">jcarlson1@farmersagent.com</span></a><span style="font-family: Tahoma">\, 2301 Court Street\, Beatrice\, NE 68310\; Ashley Stawniak\, 223-3100\, </span><a href="mailto:ashley.jcarlson1@farmersagency.com"><span style="font-family: Tahoma">ashley.jcarlson1@farmersagency.com</span></a><span style="font-family: Tahoma">)&nbsp\; Sponsored by Farmers Insurance Group\, Carlson Agency</span></p><p style="text-align: left"><span style="font-size: small">2 &ndash\; 5 PM &ldquo\;Stoneware Crockery Exhibit&rdquo\; @ Beatrice Public Library (June 16-20)</span></p></div><div style="text-align: left"><span style="font-size: small">4 PM A Musical Journey Across America: Songs That Helped Shape A Nation @ Homestead National Monument</span><span id="1274374585644S" style="display: none">&nbsp\;</span><span id="1274374586029S" style="display: none">&nbsp\;</span></div><div style="text-align: left">&nbsp\;</div></div></div></div></div></div></span></div>
LOCATION:Beatrice\, NE
UID:e.41.1656
SEQUENCE:3
DTSTAMP:20260425T105505Z
URL:https://business.beatricechamber.com/events/details/homestead-days-2010-06-15-2010-1656
END:VEVENT

END:VCALENDAR
