BEGIN:VCALENDAR
VERSION:2.0
PRODID:-//ChamberMaster//Event Calendar 2.0//EN
METHOD:PUBLISH
X-PUBLISHED-TTL:P3D
REFRESH-INTERVAL:P3D
CALSCALE:GREGORIAN
BEGIN:VEVENT
DTSTART;VALUE=DATE:20120612
DTEND;VALUE=DATE:20120618
TRANSP:TRANSPARENT
X-MICROSOFT-CDO-ALLDAYEVENT:TRUE
SUMMARY:Homestead Days 2012
DESCRIPTION:Homestead Days  2012\n\n	June 12 - 17\n\n	\n\n	"150 Years...Pursuing American Dreams"\n\n	\n\n	Join us community-wide as we celebrate the 150th anniversary of the Homestead Act!  \n\n	\n\n	Click here for the Homestead Days webpage\, which includes schedule information\, registration forms\, & more!\n\n	\n\n	The Homestead Days planning committee meets the last Wednesday of each month at 8:30 am in the Beatrice City Auditorium Conference Room\, 205 N 4th Street.  Call the Chamber office for details - 402-223-2338 or www.beatricechamber.com.
X-ALT-DESC;FMTTYPE=text/html:<p>\n	<strong><span style="font-family: tahoma"><span style="font-size: 24px">Homestead Days&reg\; 2012<br />\n	June 12 - 17<br />\n	<br />\n	<span style="font-size: 18px">&quot\;150 Years...Pursuing American Dreams&quot\;</span></span></span></strong><br />\n	<br />\n	<span style="font-family: tahoma"><span style="font-size: 24px"><span style="font-size: 16px">Join us community-wide as we celebrate the 150th anniversary of the Homestead Act!&nbsp\;&nbsp\;<br />\n	<br />\n	<a href="http://www.beatricechamber.com/page.do?acid=70&amp\;aid=511">Click&nbsp\;here </a>for&nbsp\;the Homestead Days webpage\, which includes schedule information\, registration forms\, &amp\;&nbsp\;more!</span></span></span><br />\n	<br />\n	<span style="font-family: tahoma"><span style="font-size: 24px"><span style="font-size: 16px">The Homestead Days planning committee meets the last Wednesday of each month at 8:30 am in the Beatrice City Auditorium Conference Room\, 205 N 4th Street.&nbsp\; Call the Chamber office for details - 402-223-2338 or www.beatricechamber.com.</span></span></span><br />\n	<br />\n	&nbsp\;</p>\n
LOCATION:
UID:e.41.5214
SEQUENCE:3
DTSTAMP:20260422T131007Z
URL:https://business.beatricechamber.com/events/details/homestead-days-2012-06-12-2012-5214
END:VEVENT

END:VCALENDAR
