BEGIN:VCALENDAR
VERSION:2.0
PRODID:-//ChamberMaster//Event Calendar 2.0//EN
METHOD:PUBLISH
X-PUBLISHED-TTL:P3D
REFRESH-INTERVAL:P3D
CALSCALE:GREGORIAN
BEGIN:VEVENT
DTSTART;VALUE=DATE:20120615
DTEND;VALUE=DATE:20120618
TRANSP:TRANSPARENT
X-MICROSOFT-CDO-ALLDAYEVENT:TRUE
SUMMARY:Homestead Days 2012: "150 Years of Pursuing the American Dream"
DESCRIPTION:
X-ALT-DESC;FMTTYPE=text/html:
LOCATION:Homestead National Monument of America
UID:e.41.5357
SEQUENCE:3
DTSTAMP:20260422T131701Z
URL:https://business.beatricechamber.com/events/details/homestead-days-2012-150-years-of-pursuing-the-american-dream-06-15-2012-5357
END:VEVENT

END:VCALENDAR
