BEGIN:VCALENDAR
VERSION:2.0
PRODID:-//ChamberMaster//Event Calendar 2.0//EN
METHOD:PUBLISH
X-PUBLISHED-TTL:P3D
REFRESH-INTERVAL:P3D
CALSCALE:GREGORIAN
BEGIN:VEVENT
DTSTART;VALUE=DATE:20120610
DTEND;VALUE=DATE:20120611
TRANSP:TRANSPARENT
X-MICROSOFT-CDO-ALLDAYEVENT:TRUE
SUMMARY:Homestead Days 2012 "Bow 'N Go" Triathlon
DESCRIPTION:Homestead Days 2012 "Bow 'N Go" Triathlon\n\nJune 10\, 2012\n\n\n\nEntry forms will be available at www.beatricechamber.com in 2012.
X-ALT-DESC;FMTTYPE=text/html:Homestead Days 2012 &quot\;Bow &#39\;N Go&quot\; Triathlon<br />\nJune 10\, 2012<br />\n<br />\nEntry forms will be available at <a href="http://www.beatricechamber.com">www.beatricechamber.com</a> in 2012.
LOCATION:
UID:e.41.5215
SEQUENCE:3
DTSTAMP:20260422T131436Z
URL:https://business.beatricechamber.com/events/details/homestead-days-2012-bow-n-go-triathlon-06-10-2012-5215
END:VEVENT

END:VCALENDAR
