BEGIN:VCALENDAR
VERSION:2.0
PRODID:-//ChamberMaster//Event Calendar 2.0//EN
METHOD:PUBLISH
X-PUBLISHED-TTL:P3D
REFRESH-INTERVAL:P3D
CALSCALE:GREGORIAN
BEGIN:VEVENT
DTSTART:20100127T180000Z
DTEND:20100127T190000Z
X-MICROSOFT-CDO-ALLDAYEVENT:FALSE
SUMMARY:Homestead Days Committee Meeting
DESCRIPTION:Meeting held atBeatrice City Auditorium205 N 4th (4th & Ella)Auditorium Conference Room NoonBring your lunch.
X-ALT-DESC;FMTTYPE=text/html:<div><div>Meeting held at</div><div><strong>Beatrice City Auditorium</strong></div><div><strong>205 N 4th (4th &amp\;&nbsp\;Ella)</strong></div><div><div><div><strong>Auditorium Conference Room</strong></div></div></div><div><strong>&nbsp\;</strong></div><div>Noon</div><div>Bring your lunch.</div></div>
LOCATION:
UID:e.41.1575
SEQUENCE:3
DTSTAMP:20260425T181538Z
URL:https://business.beatricechamber.com/events/details/homestead-days-committee-meeting-01-27-2010-1575
END:VEVENT

END:VCALENDAR
