BEGIN:VCALENDAR
VERSION:2.0
PRODID:-//ChamberMaster//Event Calendar 2.0//EN
METHOD:PUBLISH
X-PUBLISHED-TTL:P3D
REFRESH-INTERVAL:P3D
CALSCALE:GREGORIAN
BEGIN:VEVENT
DTSTART:20120627T133000Z
DTEND:20120627T143000Z
X-MICROSOFT-CDO-ALLDAYEVENT:FALSE
SUMMARY:Homestead Days Committee Meeting
DESCRIPTION:Homestead Days  Planning Committee Meeting\n\n\n\n8:30 am\n\nHeld the Fourth Wednesday of each month\, October thru June at\n\nBeatrice City Auditorium Conference Room\, 205 N 4th Street\, Beatrice\, NE\n\n\n\nThe public is invited to attend these monthly meetings  - help make our 150th anniversary celebration of the Homestead Act a Homestead Days we will remember!\n\n\n\n\n\nFor more information\, contact Beatrice Area Chamber of Commerce 402-223-2338\n\nwww.beatricechamber.com
X-ALT-DESC;FMTTYPE=text/html:Homestead Days&reg\; Planning Committee Meeting<br />\n<br />\n8:30 am<br />\nHeld the Fourth Wednesday of each month\, October thru June at<br />\nBeatrice City Auditorium Conference Room\, 205 N 4th Street\, Beatrice\, NE<br />\n<br />\nThe public is invited to attend these monthly meetings&nbsp\; - help make our 150th anniversary celebration of the Homestead Act a Homestead Days we will remember!<br />\n<br />\n<br />\nFor more information\, contact Beatrice Area Chamber of Commerce 402-223-2338<br />\nwww.beatricechamber.com<br />\n<br />\n
LOCATION:
UID:e.41.5164
SEQUENCE:3
DTSTAMP:20260422T131608Z
URL:https://business.beatricechamber.com/events/details/homestead-days-committee-meeting-06-27-2012-5164
END:VEVENT

END:VCALENDAR
