BEGIN:VCALENDAR
VERSION:2.0
PRODID:-//ChamberMaster//Event Calendar 2.0//EN
METHOD:PUBLISH
X-PUBLISHED-TTL:P3D
REFRESH-INTERVAL:P3D
CALSCALE:GREGORIAN
BEGIN:VEVENT
DTSTART;VALUE=DATE:20110727
DTEND;VALUE=DATE:20110728
TRANSP:TRANSPARENT
X-MICROSOFT-CDO-ALLDAYEVENT:TRUE
SUMMARY:Homestead Days Committee Meeting
DESCRIPTION:Homestead Days Planning Committee Meeting\n\n\n\nLast Wednesday of the Month\n\n8:30 a.m.\n\n\n\nBeatrice City Auditorium Conference Room\n\n205 N 4th Street\n\n\n\nPlease join us if you have an interest in planning Homestead Days 2011.  Homestead Days is a community-wide event that takes place June 14-19\, 2011.  Committee is open to the public\, not limited to Beatrice Area Chamber of Commerce members.\n\n\n\nFor more information\, contact Beatrice Area Chamber of Commerce 402-223-2338\, www.beatricechamber.com
X-ALT-DESC;FMTTYPE=text/html:Homestead Days Planning Committee Meeting<br />\n<br />\nLast Wednesday of the Month<br />\n8:30 a.m.<br />\n<br />\nBeatrice City Auditorium Conference Room<br />\n205 N 4th Street<br />\n<br />\nPlease join us if you have an interest in planning Homestead Days 2011.&nbsp\; Homestead Days is a community-wide event that takes place June 14-19\, 2011.&nbsp\; Committee is open to the public\, not limited to Beatrice Area Chamber of Commerce members.<br />\n<br />\nFor more information\, contact Beatrice Area Chamber of Commerce 402-223-2338\, <a href="http://www.beatricechamber.com">www.beatricechamber.com</a>
LOCATION:
UID:e.41.3282
SEQUENCE:3
DTSTAMP:20260424T153437Z
URL:https://business.beatricechamber.com/events/details/homestead-days-committee-meeting-07-27-2011-3282
END:VEVENT

END:VCALENDAR
