BEGIN:VCALENDAR
VERSION:2.0
PRODID:-//ChamberMaster//Event Calendar 2.0//EN
METHOD:PUBLISH
X-PUBLISHED-TTL:P3D
REFRESH-INTERVAL:P3D
CALSCALE:GREGORIAN
BEGIN:VEVENT
DTSTART:20091028T170000Z
DTEND:20091028T180000Z
X-MICROSOFT-CDO-ALLDAYEVENT:FALSE
SUMMARY:Homestead Days Committee Meeting
DESCRIPTION:Yes\, it's time to start planning for Homestead Days 2010!!Anyone interested in planning for this fun community event is welcome at thePlanning Meeting & Theme brainstormingWednesday\, October 28from Noon - 1:00 pm in the basementat the old chamberoffice 226 S 6th Street This will be our 27th annual event!!  Please join us!
X-ALT-DESC;FMTTYPE=text/html:<div><span style="font-size: small"><strong>Yes\, it's time to start planning for Homestead Days 2010!!</strong></span></div><div>Anyone interested in planning for this fun community event is welcome at the</div><div>Planning Meeting &amp\;&nbsp\;Theme brainstorming</div><div>Wednesday\, October 28</div><div>from Noon - 1:00 pm in the basement</div><div>at the old chamberoffice 226 S 6th Street</div><div>&nbsp\;</div><div>This will be our 27th annual event!!&nbsp\; Please join us!</div>
LOCATION:
UID:e.41.1497
SEQUENCE:3
DTSTAMP:20260425T222337Z
URL:https://business.beatricechamber.com/events/details/homestead-days-committee-meeting-10-28-2009-1497
END:VEVENT

END:VCALENDAR
