BEGIN:VCALENDAR
VERSION:2.0
PRODID:-//ChamberMaster//Event Calendar 2.0//EN
METHOD:PUBLISH
X-PUBLISHED-TTL:P3D
REFRESH-INTERVAL:P3D
CALSCALE:GREGORIAN
BEGIN:VEVENT
DTSTART:20111130T143000Z
DTEND:20111130T153000Z
X-MICROSOFT-CDO-ALLDAYEVENT:FALSE
SUMMARY:Homestead Days Committee Meeting
DESCRIPTION:Homestead Days  Planning Committee\n\nMeeting:  Wednesday\, November 30\n\n8:30 am\n\n\n\nCity Auditorium Conference Room\, 205 N 4th Street\, Beatrice\n\n\n\nFor information on how you can be involved in planning our 2012 Homestead Days  celebration\, contact Beatrice Area Chamber of Commerce:  402-223-2338\n\n\n\nThe planning committee meets the last Wednesday of each month at 8:30 am October thru June.  Event dates:  June 12-17\, 2012.
X-ALT-DESC;FMTTYPE=text/html:Homestead Days&reg\; Planning Committee<br />\nMeeting:&nbsp\; Wednesday\, November 30<br />\n8:30 am<br />\n<br />\nCity Auditorium Conference Room\, 205 N 4th Street\, Beatrice<br />\n<br />\nFor information on how you can be involved in planning our 2012 Homestead Days&reg\; celebration\, contact Beatrice Area Chamber of Commerce:&nbsp\; 402-223-2338<br />\n<br />\nThe planning committee meets the last Wednesday of each month at 8:30 am October thru June.&nbsp\; Event dates:&nbsp\; June 12-17\, 2012.
LOCATION:
UID:e.41.5224
SEQUENCE:3
DTSTAMP:20260424T111729Z
URL:https://business.beatricechamber.com/events/details/homestead-days-committee-meeting-11-30-2011-5224
END:VEVENT

END:VCALENDAR
