BEGIN:VCALENDAR
VERSION:2.0
PRODID:-//ChamberMaster//Event Calendar 2.0//EN
METHOD:PUBLISH
X-PUBLISHED-TTL:P3D
REFRESH-INTERVAL:P3D
CALSCALE:GREGORIAN
BEGIN:VEVENT
DTSTART:20091222T180000Z
DTEND:20091222T190000Z
X-MICROSOFT-CDO-ALLDAYEVENT:FALSE
SUMMARY:Homestead Days Committee Meeting
DESCRIPTION:Meeting held atOld Chamber OfficeConference Room226 S 6th St NoonBring your lunch.
X-ALT-DESC;FMTTYPE=text/html:<div><div>Meeting held at</div><div>Old Chamber Office</div><div><div><div>Conference Room</div>226 S 6th St</div></div><div>&nbsp\;</div><div>Noon</div><div>Bring your lunch.</div></div>
LOCATION:Old Chamber OfficeConference Room226 S 6th St Noon
UID:e.41.1502
SEQUENCE:3
DTSTAMP:20260425T194337Z
URL:https://business.beatricechamber.com/events/details/homestead-days-committee-meeting-12-22-2009-1502
END:VEVENT

END:VCALENDAR
