BEGIN:VCALENDAR
VERSION:2.0
PRODID:-//ChamberMaster//Event Calendar 2.0//EN
METHOD:PUBLISH
X-PUBLISHED-TTL:P3D
REFRESH-INTERVAL:P3D
CALSCALE:GREGORIAN
BEGIN:VEVENT
DTSTART:20100502T130000Z
DTEND:20100502T180000Z
X-MICROSOFT-CDO-ALLDAYEVENT:FALSE
SUMMARY:Homestead Days Fundraiser Breakfast 5/2/2010
DESCRIPTION:Homestead Days Fundraiser Breakfast Sunday\, May 2\, 20108 a.m. - 1 p.m. American Legion701 Dorsey StreetBeatrice\, NE Your Chamber's Board of Directors will be serving pancakes\, sausage\, eggs\, fruit\, coffee\, juice. All proceeds will benefit Homestead Days activities and events.   TICKETS:  $5.00 in advance\, $5.50 at the door.Kids 11 & Under:  $3.00 Tickets are available at:  Beatrice Area Chamber of Commerce\, Penner Insurance\, Twin Rivers Chrysler Jeep Dodge\, Gage County Museum\, Bank of the West\, Pinnacle Bank\, MembersOwn Credit Union\, Security First Bank
X-ALT-DESC;FMTTYPE=text/html:<div style="text-align: center"><strong><span style="font-size: large">Homestead Days Fundraiser Breakfast</span></strong></div><div style="text-align: center">&nbsp\;</div><div style="text-align: center"><strong><span style="font-size: large">Sunday\, May 2\, 2010</span></strong></div><div style="text-align: center"><strong><span style="font-size: large">8 a.m. - 1 p.m.</span></strong></div><div>&nbsp\;</div><div style="text-align: center"><span style="font-size: medium">American Legion</span></div><div style="text-align: center"><span style="font-size: medium">701 Dorsey Street</span></div><div style="text-align: center"><span style="font-size: medium">Beatrice\, NE</span></div><div>&nbsp\;</div><div><span style="font-size: small">Your Chamber's Board of Directors will be serving pancakes\, sausage\, eggs\, fruit\, coffee\, juice.</span></div><div>&nbsp\;</div><div><span style="font-size: small">All proceeds will benefit Homestead Days activities and events.&nbsp\; </span></div><div>&nbsp\;</div><div><span style="font-size: small">TICKETS:&nbsp\; </span></div><div><span style="font-size: small">$5.00 in advance\, $5.50 at the door.</span></div><div><span style="font-size: small">Kids 11 &amp\;&nbsp\;Under:&nbsp\; $3.00</span></div><div>&nbsp\;</div><div><em><span style="font-size: small">Tickets are available at:&nbsp\; Beatrice Area Chamber of Commerce\, Penner Insurance\, Twin Rivers Chrysler Jeep Dodge\, Gage County Museum\, Bank of the West\, Pinnacle Bank\, MembersOwn Credit Union\, Security First Bank</span></em></div><div>&nbsp\;</div><div>&nbsp\;</div>
LOCATION:
UID:e.41.1974
SEQUENCE:3
DTSTAMP:20260425T124158Z
URL:https://business.beatricechamber.com/events/details/homestead-days-fundraiser-breakfast-5-2-2010-05-02-2010-1974
END:VEVENT

END:VCALENDAR
