BEGIN:VCALENDAR
VERSION:2.0
PRODID:-//ChamberMaster//Event Calendar 2.0//EN
METHOD:PUBLISH
X-PUBLISHED-TTL:P3D
REFRESH-INTERVAL:P3D
CALSCALE:GREGORIAN
BEGIN:VEVENT
DTSTART:20120415T130000Z
DTEND:20120415T180000Z
X-MICROSOFT-CDO-ALLDAYEVENT:FALSE
SUMMARY:Homestead Days Fundraising Breakfast
DESCRIPTION:The Homestead Days  Planning Committee's\n\nFundraising Breakfast\n\n\n\nSunday\, April 15\n\n8 am - 1 pm\n\n\n\nAmerican Legion\, 701 Dorsey Street\, Beatrice\n\n\n\nFreewill Donation.  Proceeds will support Homestead Days  activities\, events\, and entertainment!\n\n\n\nPancakes\, scrambled eggs\, sausage\, fruit\, juice\, coffee\, water. Served by Beatrice Area Chamber of Commerce Board of Directors
X-ALT-DESC;FMTTYPE=text/html:The Homestead Days&reg\; Planning Committee&#39\;s<br />\nFundraising Breakfast<br />\n<br />\nSunday\, April 15<br />\n8 am - 1 pm<br />\n<br />\nAmerican Legion\, 701 Dorsey Street\, Beatrice<br />\n<br />\nFreewill Donation.&nbsp\; Proceeds will support Homestead Days&reg\; activities\, events\, and entertainment!<br />\n<br />\nPancakes\, scrambled eggs\, sausage\, fruit\,&nbsp\;juice\, coffee\, water. Served by Beatrice Area Chamber of Commerce Board of Directors
LOCATION:
UID:e.41.5320
SEQUENCE:3
DTSTAMP:20260422T154836Z
URL:https://business.beatricechamber.com/events/details/homestead-days-fundraising-breakfast-04-15-2012-5320
END:VEVENT

END:VCALENDAR
