BEGIN:VCALENDAR
VERSION:2.0
PRODID:-//ChamberMaster//Event Calendar 2.0//EN
METHOD:PUBLISH
X-PUBLISHED-TTL:P3D
REFRESH-INTERVAL:P3D
CALSCALE:GREGORIAN
BEGIN:VEVENT
DTSTART:20110618T013000Z
DTEND:20110618T053000Z
X-MICROSOFT-CDO-ALLDAYEVENT:FALSE
SUMMARY:Homestead Days Street Dance with music by City Limit
DESCRIPTION:Street Dance from 8:30 p.m.-12:30 a.m. at Risky's II Sports Bar and Grill\, north Hwy 77\, Beatrice.  Gates open at 6 p.m.\n\n\n\n$5 cover charge and MUST BE 21 or older.
X-ALT-DESC;FMTTYPE=text/html:Street Dance from 8:30 p.m.-12:30 a.m. at Risky&#39\;s II Sports Bar and Grill\, north Hwy 77\, Beatrice.&nbsp\; Gates open at 6 p.m.<br />\n<br />\n$5 cover charge and MUST BE 21 or older.
LOCATION:
UID:e.41.4897
SEQUENCE:3
DTSTAMP:20260424T170012Z
URL:https://business.beatricechamber.com/events/details/homestead-days-street-dance-with-music-by-city-limit-06-17-2011-4897
END:VEVENT

END:VCALENDAR
