BEGIN:VCALENDAR
VERSION:2.0
PRODID:-//ChamberMaster//Event Calendar 2.0//EN
METHOD:PUBLISH
X-PUBLISHED-TTL:P3D
REFRESH-INTERVAL:P3D
CALSCALE:GREGORIAN
BEGIN:VEVENT
DTSTART:20100320T150000Z
DTEND:20100320T163000Z
X-MICROSOFT-CDO-ALLDAYEVENT:FALSE
SUMMARY:Homestead ''Detective'' Event 3/20/10
DESCRIPTION:Children can become spring nature detectives with the Park Rangers at Homestead National Monument of America! Kids in Parks Explore Your Spring World programSaturday\, March 20\, 201010 a.m. - 11:30 a.m.Homestead's Education Center Free of charge. Participants should dress appropriately for outdoor trail investigations. For more information\, visit Homestead's website at www.nps.gov/home or call 223-3514.
X-ALT-DESC;FMTTYPE=text/html:<div>Children can become spring nature detectives with the Park Rangers at Homestead National Monument of America!</div><div>&nbsp\;</div><div><div>Kids in Parks Explore Your Spring World program</div>Saturday\, March 20\, 2010</div><div>10 a.m. - 11:30 a.m.</div><div>Homestead's Education Center</div><div>&nbsp\;</div><div>Free of charge.</div><div>&nbsp\;</div><div>Participants should dress appropriately for outdoor trail investigations.</div><div>&nbsp\;</div><div>For more information\, visit Homestead's website at <a href="http://www.nps.gov/home">www.nps.gov/home</a> or call 223-3514.</div><div>&nbsp\;</div>
LOCATION:
UID:e.41.1704
SEQUENCE:3
DTSTAMP:20260425T153237Z
URL:https://business.beatricechamber.com/events/details/homestead-detective-event-3-20-10-03-20-2010-1704
END:VEVENT

END:VCALENDAR
