BEGIN:VCALENDAR
VERSION:2.0
PRODID:-//ChamberMaster//Event Calendar 2.0//EN
METHOD:PUBLISH
X-PUBLISHED-TTL:P3D
REFRESH-INTERVAL:P3D
CALSCALE:GREGORIAN
BEGIN:VEVENT
DTSTART;VALUE=DATE:20101107
DTEND;VALUE=DATE:20101108
TRANSP:TRANSPARENT
X-MICROSOFT-CDO-ALLDAYEVENT:TRUE
SUMMARY:Homestead Early Risers annual pancake feed
DESCRIPTION:Homestead Early Risers Kiwanis Club annual pancake feed:\n\n\n\n7:30 a.m.- 1 p.m.\, american Legion\, 701 Dorsey St.\, Beatrice. $6\, adults. $3\, children up to age 12. Ages 3 and younger\, free. Discounted tickets at area banks. First $1000 raised benefit Mother to Mother Ministries.
X-ALT-DESC;FMTTYPE=text/html:<strong><span style="font-size: 16px">Homestead Early Risers Kiwanis Club annual pancake feed:</span></strong><br />\n<br />\n7:30 a.m.- 1 p.m.\, american Legion\, 701 Dorsey St.\, Beatrice. $6\, adults. $3\, children up to age 12. Ages 3 and younger\, free. Discounted tickets at area banks. First $1000 raised benefit Mother to Mother Ministries.
LOCATION:
UID:e.41.2789
SEQUENCE:3
DTSTAMP:20260425T032905Z
URL:https://business.beatricechamber.com/events/details/homestead-early-risers-annual-pancake-feed-11-07-2010-2789
END:VEVENT

END:VCALENDAR
