BEGIN:VCALENDAR
VERSION:2.0
PRODID:-//ChamberMaster//Event Calendar 2.0//EN
METHOD:PUBLISH
X-PUBLISHED-TTL:P3D
REFRESH-INTERVAL:P3D
CALSCALE:GREGORIAN
BEGIN:VEVENT
DTSTART;VALUE=DATE:20091129
DTEND;VALUE=DATE:20091130
TRANSP:TRANSPARENT
X-MICROSOFT-CDO-ALLDAYEVENT:TRUE
SUMMARY:Homestead Harmonizer Christmas Concert
DESCRIPTION:Second Annual Christmas Concert"It's a Holiday" Join us at the Hevelone Center
X-ALT-DESC;FMTTYPE=text/html:<div>Second Annual Christmas Concert</div><div>&quot\;It's a Holiday&quot\;</div><div>&nbsp\;</div><div>Join us at the Hevelone Center</div>
LOCATION:
UID:e.41.1552
SEQUENCE:3
DTSTAMP:20260425T210402Z
URL:https://business.beatricechamber.com/events/details/homestead-harmonizer-christmas-concert-11-29-2009-1552
END:VEVENT

END:VCALENDAR
