BEGIN:VCALENDAR
VERSION:2.0
PRODID:-//ChamberMaster//Event Calendar 2.0//EN
METHOD:PUBLISH
X-PUBLISHED-TTL:P3D
REFRESH-INTERVAL:P3D
CALSCALE:GREGORIAN
BEGIN:VEVENT
DTSTART;VALUE=DATE:20110320
DTEND;VALUE=DATE:20110321
TRANSP:TRANSPARENT
X-MICROSOFT-CDO-ALLDAYEVENT:TRUE
SUMMARY:Homestead Harmonizers 2011 Spring Show
DESCRIPTION:Homestead Harmonizers 2011 Spring Show\n\n\n\nSunday\, March 20\n\n2 pm\n\n\n\nHevelone Center for Performing Arts\n\nBeatrice High School\n\n600 Orange Blvd.\n\nBeatrice\, NE
X-ALT-DESC;FMTTYPE=text/html:Homestead Harmonizers 2011 Spring Show<br />\n<br />\nSunday\, March 20<br />\n2 pm<br />\n<br />\nHevelone Center for Performing Arts<br />\nBeatrice High School<br />\n600 Orange Blvd.<br />\nBeatrice\, NE
LOCATION:
UID:e.41.4252
SEQUENCE:3
DTSTAMP:20260424T211658Z
URL:https://business.beatricechamber.com/events/details/homestead-harmonizers-2011-spring-show-03-20-2011-4252
END:VEVENT

END:VCALENDAR
