BEGIN:VCALENDAR
VERSION:2.0
PRODID:-//ChamberMaster//Event Calendar 2.0//EN
METHOD:PUBLISH
X-PUBLISHED-TTL:P3D
REFRESH-INTERVAL:P3D
CALSCALE:GREGORIAN
BEGIN:VEVENT
DTSTART;VALUE=DATE:20101128
DTEND;VALUE=DATE:20101129
TRANSP:TRANSPARENT
X-MICROSOFT-CDO-ALLDAYEVENT:TRUE
SUMMARY:Homestead Harmonizers Christmas Holiday Show
DESCRIPTION:Homestead Harmonizers Christmas Holiday Show:\n\n\n\nThe Homestead Harmonizers are presenting their third annual Christmas Holiday Show Sunday\, Nov. 28\, at 2:30 p.m. at Hevelone Center for Performing Arts\, 600 Orange Blvd.\, Beatrice.\n\n\n\nTickets are $10 for adults and free to children ages 12 and younger who accompany an adult. Tickets are availablefrom chorus members or by calling 888-632-5299.
X-ALT-DESC;FMTTYPE=text/html:<strong><span style="font-size: 14px">Homestead Harmonizers Christmas Holiday Show:</span></strong><br />\n<br />\nThe Homestead Harmonizers are presenting their third annual Christmas Holiday Show Sunday\, Nov. 28\, at 2:30 p.m. at Hevelone Center for Performing Arts\, 600 Orange Blvd.\, Beatrice.<br />\n<br />\nTickets are $10 for adults and free to children ages 12 and younger who accompany an adult. Tickets are availablefrom chorus members or by calling 888-632-5299.
LOCATION:
UID:e.41.2840
SEQUENCE:3
DTSTAMP:20260425T033039Z
URL:https://business.beatricechamber.com/events/details/homestead-harmonizers-christmas-holiday-show-11-28-2010-2840
END:VEVENT

END:VCALENDAR
