BEGIN:VCALENDAR
VERSION:2.0
PRODID:-//ChamberMaster//Event Calendar 2.0//EN
METHOD:PUBLISH
X-PUBLISHED-TTL:P3D
REFRESH-INTERVAL:P3D
CALSCALE:GREGORIAN
BEGIN:VEVENT
DTSTART;VALUE=DATE:20120213
DTEND;VALUE=DATE:20120214
TRANSP:TRANSPARENT
X-MICROSOFT-CDO-ALLDAYEVENT:TRUE
SUMMARY:Homestead Harmonizers Rehearsals
DESCRIPTION:Homestead Harmonizers - Rehearsal\n\nMonday's at 7:30 p.m.\n\n\n\n\n\nAny male singer ages twelve and up is invited to visit us during one of our rehearsals and learn more about being a Homestead Harmonizer. We gather for singing\, fun and fellowship every Monday night at 7:30 PM! Join us at the First Presbyterian Church on the corner of 5th & High Streets in Beatrice Nebraska.
X-ALT-DESC;FMTTYPE=text/html:<span style="font-size: 9pt"><span style="color: #111111"><span style="font-family: verdana\, sans-serif">Homestead Harmonizers - Rehearsal<br />\nMonday&#39\;s at 7:30 p.m.<br />\n<br />\n<br />\nAny male singer ages twelve and up is invited to visit us during one of our rehearsals and learn more about being a Homestead Harmonizer. We gather for singing\, fun and fellowship every Monday night at 7:30 PM! Join us at the First Presbyterian Church on the <a href="http://maps.google.com/maps?f=q&amp\;hl=en&amp\;q=321+N+5th+St+beatrice\,+nebraska" target="_blank">corner of 5th &amp\; High Streets in Beatrice Nebraska</a>. </span></span></span><br />\n
LOCATION:
UID:e.41.3006
SEQUENCE:3
DTSTAMP:20260422T185513Z
URL:https://business.beatricechamber.com/events/details/homestead-harmonizers-rehearsals-02-13-2012-3006
END:VEVENT

END:VCALENDAR
