BEGIN:VCALENDAR
VERSION:2.0
PRODID:-//ChamberMaster//Event Calendar 2.0//EN
METHOD:PUBLISH
X-PUBLISHED-TTL:P3D
REFRESH-INTERVAL:P3D
CALSCALE:GREGORIAN
BEGIN:VEVENT
DTSTART;VALUE=DATE:20120317
DTEND;VALUE=DATE:20120319
TRANSP:TRANSPARENT
X-MICROSOFT-CDO-ALLDAYEVENT:TRUE
SUMMARY:Homestead Harmonizers Spring Show
DESCRIPTION:Homestead Harmonizers Spring Show\n\n\n\nSaturday\, March 17\n\n7 pm\n\n\n\nSunday\, March 18\n\n2 pm\n\n\n\nHevelone Center for Performing Arts at Beatrice High School\, 600 Orange Blvd\, Beatrice\n\n\n\nAdvance Tickets:\n\nAdults: $12\n\nChildren Ages 12 & Younger: $8\n\nChildren Under Age 5: Free\n\n\n\nAt the Door:\n\nAdults: $14\n\nChildren Ages 12 & Younger: $10\n\n\n\nTickets available at Pinnacle Bank\, Security First Bank\, First National Bank of Omaha - Beatrice Branch\, and Harmonizers members\; or call 402-314-7529 or email: kludaddy@yahoo.com
X-ALT-DESC;FMTTYPE=text/html:Homestead Harmonizers Spring Show<br />\n<br />\nSaturday\, March 17<br />\n7 pm<br />\n<br />\nSunday\, March 18<br />\n2 pm<br />\n<br />\nHevelone Center for Performing Arts at Beatrice High School\, 600 Orange Blvd\, Beatrice<br />\n<br />\nAdvance Tickets:<br />\nAdults: $12<br />\nChildren Ages 12 &amp\; Younger: $8<br />\nChildren Under Age 5: Free<br />\n<br />\nAt the Door:<br />\nAdults: $14<br />\nChildren Ages 12 &amp\; Younger: $10<br />\n<br />\nTickets available at Pinnacle Bank\, Security First Bank\, First National Bank of Omaha - Beatrice Branch\, and Harmonizers members\; or call 402-314-7529 or email: kludaddy@yahoo.com<br />\n<br />\n
LOCATION:
UID:e.41.5412
SEQUENCE:3
DTSTAMP:20260422T172143Z
URL:https://business.beatricechamber.com/events/details/homestead-harmonizers-spring-show-03-17-2012-5412
END:VEVENT

END:VCALENDAR
