BEGIN:VCALENDAR
VERSION:2.0
PRODID:-//ChamberMaster//Event Calendar 2.0//EN
METHOD:PUBLISH
X-PUBLISHED-TTL:P3D
REFRESH-INTERVAL:P3D
CALSCALE:GREGORIAN
BEGIN:VEVENT
DTSTART:20120914T160000Z
DTEND:20120914T180000Z
X-MICROSOFT-CDO-ALLDAYEVENT:FALSE
SUMMARY:Homestead House 15 Year Anniversary Celebration
DESCRIPTION:Join Homestead House in celebrating 15 years of assisting our seniors. Special guests include KWBE Radio\, Husker Health\, Deines Pharmacy\, Clabaugh Pharmacy and Beatrice Community Hospital Home Health.\n\n\n\nEnjoy hot dogs\, chips and homemade ice cream\, stroll through our beautiful home and visit with our healthcare partners. Free and open to the public!
X-ALT-DESC;FMTTYPE=text/html:Join Homestead House in celebrating 15 years of assisting our seniors. Special guests include KWBE Radio\, Husker Health\, Deines Pharmacy\, Clabaugh Pharmacy and Beatrice Community Hospital Home Health.<br />\n<br />\nEnjoy hot dogs\, chips and homemade ice cream\, stroll through our beautiful home and&nbsp\;visit with our healthcare partners. Free and open to the public!
LOCATION:Homestead House 2300 Lincoln Street\, Beatrice
UID:e.41.6601
SEQUENCE:3
DTSTAMP:20260422T091329Z
URL:https://business.beatricechamber.com/events/details/homestead-house-15-year-anniversary-celebration-09-14-2012-6601
END:VEVENT

END:VCALENDAR
