BEGIN:VCALENDAR
VERSION:2.0
PRODID:-//ChamberMaster//Event Calendar 2.0//EN
METHOD:PUBLISH
X-PUBLISHED-TTL:P3D
REFRESH-INTERVAL:P3D
CALSCALE:GREGORIAN
BEGIN:VEVENT
DTSTART;VALUE=DATE:20101111
DTEND;VALUE=DATE:20101112
TRANSP:TRANSPARENT
X-MICROSOFT-CDO-ALLDAYEVENT:TRUE
SUMMARY:Homestead House to honor veterans
DESCRIPTION:Homestead House to honor veterans:\n\n\n\nIn honor of Veterans Day\, Homestead House invites veterans to attend the Community Cards & Games on Thursday Nov. 11\, at 1:30 p.m. at Homestead House\, 2300 Lincoln St. in Beatrice. This event is open to the public at no charge. Door prize drawings and refreshments will be served.
X-ALT-DESC;FMTTYPE=text/html:<span style="font-size: 14px"><strong>Homestead House to honor veterans:</strong></span><br />\n<br />\nIn honor of Veterans Day\, Homestead House invites veterans to attend the Community Cards &amp\; Games on Thursday Nov. 11\, at 1:30 p.m. at Homestead House\, 2300 Lincoln St. in Beatrice. This event is open to the public at no charge. Door prize drawings and refreshments will be served.
LOCATION:
UID:e.41.2805
SEQUENCE:3
DTSTAMP:20260425T032936Z
URL:https://business.beatricechamber.com/events/details/homestead-house-to-honor-veterans-11-11-2010-2805
END:VEVENT

END:VCALENDAR
