BEGIN:VCALENDAR
VERSION:2.0
PRODID:-//ChamberMaster//Event Calendar 2.0//EN
METHOD:PUBLISH
X-PUBLISHED-TTL:P3D
REFRESH-INTERVAL:P3D
CALSCALE:GREGORIAN
BEGIN:VEVENT
DTSTART;VALUE=DATE:20110614
DTEND;VALUE=DATE:20110615
TRANSP:TRANSPARENT
X-MICROSOFT-CDO-ALLDAYEVENT:TRUE
SUMMARY:Homestead Monument Naturalization Ceremony
DESCRIPTION:Starts at 2:00 p.m. at the Homestead National Monument of America Education Center\, west of Beatrice on Highway 4.  For more information\, call 402-223-3514.
X-ALT-DESC;FMTTYPE=text/html:Starts at 2:00 p.m. at the Homestead National Monument of America Education Center\, west of Beatrice on Highway 4.&nbsp\; For more information\, call 402-223-3514.
LOCATION:
UID:e.41.4874
SEQUENCE:3
DTSTAMP:20260424T165532Z
URL:https://business.beatricechamber.com/events/details/homestead-monument-naturalization-ceremony-06-14-2011-4874
END:VEVENT

END:VCALENDAR
