BEGIN:VCALENDAR
VERSION:2.0
PRODID:-//ChamberMaster//Event Calendar 2.0//EN
METHOD:PUBLISH
X-PUBLISHED-TTL:P3D
REFRESH-INTERVAL:P3D
CALSCALE:GREGORIAN
BEGIN:VEVENT
DTSTART;VALUE=DATE:20110319
DTEND;VALUE=DATE:20110320
TRANSP:TRANSPARENT
X-MICROSOFT-CDO-ALLDAYEVENT:TRUE
SUMMARY:Homestead National Monument of America - 75 years
DESCRIPTION:Homestead National Monument of America will be 75 years old on Saturday\, March 19. Homestead invites the public to celebrate with us\, beginning with ranger-guided prairie hikes that will start at the Education Center at both  1 0 and 11 a.m. At 12:30 p.m. visitors can enjoy birthday cake shaped like the iconic Palmer-Epard Cabin. \n\n\n\nJourney of the monument's 75 year history at the Education center at 1 p.m.\n\n\n\nFormer Nebraska Senator David Landis will speak at 2 p.m. about Senator George Norris\, who was the Father of Homestead National Monument and spearheaded the movement to make Daniel Freeman's homestead  a National Park Service site.\n\n\n\nPlease\, dress accordingly\, as the morning programs will be held outdoors\, weather permitting. All programs and refreshments are free of charge.\n\n\n\nJourney
X-ALT-DESC;FMTTYPE=text/html:Homestead National Monument of America will be 75 years old on Saturday\, March 19. Homestead invites the public to celebrate with us\, beginning with ranger-guided prairie hikes that will start at the Education Center at both <span _fck_bookmark="1" style="display: none\;">&nbsp\;</span><strong>1<span _fck_bookmark="1" style="display: none\;">&nbsp\;</span>0</strong> and <strong>11 a.m. </strong>At 12:30 p.m. visitors can enjoy birthday cake shaped like the iconic Palmer-Epard Cabin.&nbsp\;<br />\n<br />\nJourney of the monument&#39\;s 75 year history at the Education center at <strong>1 p.m.</strong><br />\n<br />\nFormer Nebraska Senator David Landis will speak at <strong>2 p.m.</strong> about Senator George Norris\, who was the Father of Homestead National Monument and spearheaded the movement to make Daniel Freeman&#39\;s homestead&nbsp\; a National Park Service site.<br />\n<br />\nPlease\, dress accordingly\, as the morning programs will be held outdoors\, weather permitting. All programs and refreshments are free of charge.<br />\n<br />\n<span _fck_bookmark="1" style="display: none\;">Journey &nbsp\;&nbsp\;&nbsp\; </span>
LOCATION:
UID:e.41.4237
SEQUENCE:3
DTSTAMP:20260424T212911Z
URL:https://business.beatricechamber.com/events/details/homestead-national-monument-of-america-75-years-03-19-2011-4237
END:VEVENT

END:VCALENDAR
