BEGIN:VCALENDAR
VERSION:2.0
PRODID:-//ChamberMaster//Event Calendar 2.0//EN
METHOD:PUBLISH
X-PUBLISHED-TTL:P3D
REFRESH-INTERVAL:P3D
CALSCALE:GREGORIAN
BEGIN:VEVENT
DTSTART:20120310T153000Z
DTEND:20120310T180000Z
X-MICROSOFT-CDO-ALLDAYEVENT:FALSE
SUMMARY:Homestead National Monument of America deer survey
DESCRIPTION:Meet at Education Center for orientation\, 9:30 am. Wear long pants and long sleeved shirt\, and good walking shoes
X-ALT-DESC;FMTTYPE=text/html:Meet at Education Center for orientation\, 9:30 am. Wear long pants and long sleeved shirt\, and good walking shoes
LOCATION:
UID:e.41.5391
SEQUENCE:3
DTSTAMP:20260422T173822Z
URL:https://business.beatricechamber.com/events/details/homestead-national-monument-of-america-deer-survey-03-10-2012-5391
END:VEVENT

END:VCALENDAR
