BEGIN:VCALENDAR
VERSION:2.0
PRODID:-//ChamberMaster//Event Calendar 2.0//EN
METHOD:PUBLISH
X-PUBLISHED-TTL:P3D
REFRESH-INTERVAL:P3D
CALSCALE:GREGORIAN
BEGIN:VEVENT
DTSTART:20120902T180000Z
DTEND:20120902T200000Z
X-MICROSOFT-CDO-ALLDAYEVENT:FALSE
SUMMARY:Homestead National Monument of America Labor Day programs
DESCRIPTION:Modern-day homesteaders sharing their experiences from the past and present. Includes Ken Deardorff\, last homesteader in the United States\, who homesteaded in Alaska in the 1970s. Joyce Coppinger\, executive director of Green Prairie Foundation for Sustainability out of Lincoln\, will examine the importance of sustainable building materials and the use of renewable resources in architecture and the design of homes and buildings.
X-ALT-DESC;FMTTYPE=text/html:Modern-day homesteaders sharing their experiences from the past and present. Includes Ken Deardorff\, last homesteader in the United States\, who homesteaded in Alaska in the 1970s. Joyce Coppinger\, executive director of Green Prairie Foundation for Sustainability out of Lincoln\, will examine the importance of sustainable building materials and the use of renewable resources in architecture and the design of homes and buildings.
LOCATION:Homestead National Monument of America 402-223-3514
UID:e.41.6621
SEQUENCE:3
DTSTAMP:20260422T091432Z
URL:https://business.beatricechamber.com/events/details/homestead-national-monument-of-america-labor-day-programs-09-02-2012-6621
END:VEVENT

END:VCALENDAR
