BEGIN:VCALENDAR
VERSION:2.0
PRODID:-//ChamberMaster//Event Calendar 2.0//EN
METHOD:PUBLISH
X-PUBLISHED-TTL:P3D
REFRESH-INTERVAL:P3D
CALSCALE:GREGORIAN
BEGIN:VEVENT
DTSTART;VALUE=DATE:20110104
DTEND;VALUE=DATE:20110105
TRANSP:TRANSPARENT
X-MICROSOFT-CDO-ALLDAYEVENT:TRUE
SUMMARY:Homestead National Monument of America Volunteers
DESCRIPTION:Homestead National Monument of America\n\nVolunteers Meeting\n\n\n\nTuesday\, January 4\n\n10 a.m.\n\n\n\nMonthly volunteer meeting\, Gage County Courthouse in the District Courtroom.  Special program on the renovation.
X-ALT-DESC;FMTTYPE=text/html:Homestead National Monument of America<br />\nVolunteers Meeting<br />\n<br />\nTuesday\, January 4<br />\n10 a.m.<br />\n<br />\nMonthly volunteer meeting\, Gage County Courthouse in the District Courtroom.&nbsp\; Special program on the renovation.
LOCATION:
UID:e.41.3164
SEQUENCE:3
DTSTAMP:20260425T004206Z
URL:https://business.beatricechamber.com/events/details/homestead-national-monument-of-america-volunteers-01-04-2011-3164
END:VEVENT

END:VCALENDAR
