BEGIN:VCALENDAR
VERSION:2.0
PRODID:-//ChamberMaster//Event Calendar 2.0//EN
METHOD:PUBLISH
X-PUBLISHED-TTL:P3D
REFRESH-INTERVAL:P3D
CALSCALE:GREGORIAN
BEGIN:VEVENT
DTSTART;VALUE=DATE:20120107
DTEND;VALUE=DATE:20120108
TRANSP:TRANSPARENT
X-MICROSOFT-CDO-ALLDAYEVENT:TRUE
SUMMARY:Homesteading Film Festival
DESCRIPTION:"Hollywood and Homesteading" a film Festival at the Homestead National Monument of America. The first dates in this series is scheduled for January 7th and 8th at 2pm. It will run for 8 weekends \n\nFor additional information call 402-223-3514
X-ALT-DESC;FMTTYPE=text/html:&quot\;Hollywood and Homesteading&quot\; a film Festival at the Homestead National Monument of America. The first dates in this series is scheduled for January 7th and 8th at 2pm. It will run for 8 weekends&nbsp\;<br />\nFor additional information call 402-223-3514
LOCATION:
UID:e.41.5276
SEQUENCE:3
DTSTAMP:20260422T203133Z
URL:https://business.beatricechamber.com/events/details/homesteading-film-festival-01-07-2012-5276
END:VEVENT

END:VCALENDAR
