BEGIN:VCALENDAR
VERSION:2.0
PRODID:-//ChamberMaster//Event Calendar 2.0//EN
METHOD:PUBLISH
X-PUBLISHED-TTL:P3D
REFRESH-INTERVAL:P3D
CALSCALE:GREGORIAN
BEGIN:VEVENT
DTSTART;VALUE=DATE:20120715
DTEND;VALUE=DATE:20120716
TRANSP:TRANSPARENT
X-MICROSOFT-CDO-ALLDAYEVENT:TRUE
SUMMARY:Homesteading Program at Old West Trails Center
DESCRIPTION:Old West Trails Center\n\n \n\nJuly 15  2:00 pm\n\nRick Masek will be presenting a program entitled "My Homesteading Ancestors and How the Homesteading Act impacted the Immigrants". He will also be singing some songs related to the homesteading era. Refreshments will be served. No charge.
X-ALT-DESC;FMTTYPE=text/html:<strong><span style="font-size: 11pt"><span style="font-family: arial\, sans-serif">&nbsp\;Old West Trails Center</span></span></strong><br />\n&nbsp\;<br />\n<span style="font-size: 9pt"><span style="font-family: arial\, sans-serif">July 15&nbsp\; 2:00 pm</span></span><br />\n<span style="font-size: 9pt"><span style="font-family: arial\, sans-serif">Rick Masek will be presenting a program entitled &quot\;My Homesteading Ancestors and How the Homesteading Act impacted the Immigrants&quot\;. He will also be singing some songs related to the homesteading era. Refreshments will be served. No charge.</span></span>
LOCATION:
UID:e.41.6307
SEQUENCE:3
DTSTAMP:20260422T113817Z
URL:https://business.beatricechamber.com/events/details/homesteading-program-at-old-west-trails-center-07-15-2012-6307
END:VEVENT

END:VCALENDAR
