BEGIN:VCALENDAR
VERSION:2.0
PRODID:-//ChamberMaster//Event Calendar 2.0//EN
METHOD:PUBLISH
X-PUBLISHED-TTL:P3D
REFRESH-INTERVAL:P3D
CALSCALE:GREGORIAN
BEGIN:VEVENT
DTSTART:20120709T200000Z
DTEND:20120709T233000Z
X-MICROSOFT-CDO-ALLDAYEVENT:FALSE
SUMMARY:Hometown Heroes Blood Drive
DESCRIPTION:Blood Drive at St. John Lutheran Church\, 701 N. Sixth St.\, Beatrice. To make an appointment\, call Tonya Minor at 402-230-0505. For more information about Hometown Heroes\, call Kelly Gillaspie\, 402-486-9409.
X-ALT-DESC;FMTTYPE=text/html:Blood Drive at St. John Lutheran Church\, 701 N. Sixth St.\, Beatrice. To make an appointment\, call Tonya Minor at 402-230-0505. For more information about Hometown Heroes\, call Kelly Gillaspie\, 402-486-9409.
LOCATION:
UID:e.41.6315
SEQUENCE:3
DTSTAMP:20260422T113909Z
URL:https://business.beatricechamber.com/events/details/hometown-heroes-blood-drive-07-09-2012-6315
END:VEVENT

END:VCALENDAR
