BEGIN:VCALENDAR
VERSION:2.0
PRODID:-//ChamberMaster//Event Calendar 2.0//EN
METHOD:PUBLISH
X-PUBLISHED-TTL:P3D
REFRESH-INTERVAL:P3D
CALSCALE:GREGORIAN
BEGIN:VEVENT
DTSTART:20120311T200000Z
DTEND:20120311T200000Z
X-MICROSOFT-CDO-ALLDAYEVENT:FALSE
SUMMARY:Honoring Women's History Month Program
DESCRIPTION:Kari Ronning from the Willa Cather Archive at the Center for Digital Research in the Humanities will speak for Women's History Month.
X-ALT-DESC;FMTTYPE=text/html:Kari Ronning from the Willa Cather Archive at the Center for Digital Research in the Humanities will speak for Women&#39\;s History Month. 
LOCATION:Homestead National Monument of America's Education Center
UID:e.41.5343
SEQUENCE:3
DTSTAMP:20260422T172229Z
URL:https://business.beatricechamber.com/events/details/honoring-women-s-history-month-program-03-11-2012-5343
END:VEVENT

END:VCALENDAR
