BEGIN:VCALENDAR
VERSION:2.0
PRODID:-//ChamberMaster//Event Calendar 2.0//EN
METHOD:PUBLISH
X-PUBLISHED-TTL:P3D
REFRESH-INTERVAL:P3D
CALSCALE:GREGORIAN
BEGIN:VEVENT
DTSTART:20090731T170000Z
DTEND:20090731T180000Z
X-MICROSOFT-CDO-ALLDAYEVENT:FALSE
SUMMARY:Hoops Marathon
DESCRIPTION:24 Hour Hoop marathonBegins Noon Friday July 31 thru Noon Saturday August 1
X-ALT-DESC;FMTTYPE=text/html:<div>24 Hour Hoop marathon</div><div>Begins Noon Friday July 31 thru Noon Saturday August 1</div>
LOCATION:
UID:e.41.1348
SEQUENCE:3
DTSTAMP:20260426T024033Z
URL:https://business.beatricechamber.com/events/details/hoops-marathon-07-31-2009-1348
END:VEVENT

END:VCALENDAR
