BEGIN:VCALENDAR
VERSION:2.0
PRODID:-//ChamberMaster//Event Calendar 2.0//EN
METHOD:PUBLISH
X-PUBLISHED-TTL:P3D
REFRESH-INTERVAL:P3D
CALSCALE:GREGORIAN
BEGIN:VEVENT
DTSTART;VALUE=DATE:20120428
DTEND;VALUE=DATE:20120429
TRANSP:TRANSPARENT
X-MICROSOFT-CDO-ALLDAYEVENT:TRUE
SUMMARY:Hope Crisis Center: 10K/2Mile: Put Your Foot Down Against Sexual Assault
DESCRIPTION:8th Annual Hope Crisis Center: Put Your Foot Down Against Sexual Assault\n\n10K Run 2 MI Run/Walk\n\n\n\nSponsored by Hope Crisis Center & Bob & Wauneta Burkley Wellness Center\n\n\n\nSaturday\, April 28\n\n\n\nFor more information:\n\nCall Hope Crisis Center at 402-729-2570\; email Carmen Hinman\, Executive Director at chinman@hopecrisiscenter.org\n\n\n\n\n\n10
X-ALT-DESC;FMTTYPE=text/html:8th Annual Hope Crisis Center: Put Your Foot Down Against Sexual Assault<br />\n10K Run 2 MI Run/Walk<br />\n<br />\nSponsored by Hope Crisis Center &amp\; Bob &amp\; Wauneta Burkley Wellness Center<br />\n<br />\nSaturday\, April 28<br />\n<br />\nFor more information:<br />\nCall Hope Crisis Center at 402-729-2570\; email Carmen Hinman\, Executive Director at chinman@hopecrisiscenter.org<br />\n<br />\n<br />\n<span _fck_bookmark="1" style="display: none">10&nbsp\;</span>
LOCATION:
UID:e.41.5407
SEQUENCE:3
DTSTAMP:20260422T155219Z
URL:https://business.beatricechamber.com/events/details/hope-crisis-center-10k-2mile-put-your-foot-down-against-sexual-assault-04-28-2012-5407
END:VEVENT

END:VCALENDAR
