BEGIN:VCALENDAR
VERSION:2.0
PRODID:-//ChamberMaster//Event Calendar 2.0//EN
METHOD:PUBLISH
X-PUBLISHED-TTL:P3D
REFRESH-INTERVAL:P3D
CALSCALE:GREGORIAN
BEGIN:VEVENT
DTSTART;VALUE=DATE:20100408
DTEND;VALUE=DATE:20100409
TRANSP:TRANSPARENT
X-MICROSOFT-CDO-ALLDAYEVENT:TRUE
SUMMARY:How prepared are you for the upcoming storm season? 4/8/10
DESCRIPTION:"How Prepared Are You for the Upcoming Storm Season?" presented by Mark Meints\, Gage County Emergency Management Director 10 a.m.Homestead House - 2300 Lincoln St.\,Beatrice Refreshments.Door prizes.
X-ALT-DESC;FMTTYPE=text/html:<div>&quot\;How Prepared Are You for the Upcoming Storm Season?&quot\;</div><div>&nbsp\;</div><div>presented by Mark Meints\, Gage County Emergency Management Director</div><div>&nbsp\;</div><div>10 a.m.</div><div>Homestead House - 2300 Lincoln St.\,</div><div>Beatrice</div><div>&nbsp\;</div><div>Refreshments.</div><div>Door prizes.</div>
LOCATION:
UID:e.41.1953
SEQUENCE:3
DTSTAMP:20260425T135905Z
URL:https://business.beatricechamber.com/events/details/how-prepared-are-you-for-the-upcoming-storm-season-4-8-10-04-08-2010-1953
END:VEVENT

END:VCALENDAR
