BEGIN:VCALENDAR
VERSION:2.0
PRODID:-//ChamberMaster//Event Calendar 2.0//EN
METHOD:PUBLISH
X-PUBLISHED-TTL:P3D
REFRESH-INTERVAL:P3D
CALSCALE:GREGORIAN
BEGIN:VEVENT
DTSTART:20091024T230000Z
DTEND:20091025T010000Z
X-MICROSOFT-CDO-ALLDAYEVENT:FALSE
SUMMARY:Howling Homestead
DESCRIPTION:Celebrate the Harvest Season at Homestead National Monument of AmericaJoin us at the Autum spectacular Saturday\, October 24\, 2009 at 6:00 pmat the Education Center for an evening of amusement and investigation and activities for visitors of all ages.  For additional information call 402-223-3514
X-ALT-DESC;FMTTYPE=text/html:<div>Celebrate the Harvest Season at Homestead National Monument of America</div><div>Join us at the Autum spectacular Saturday\, October 24\, 2009 at 6:00 pm</div><div>at the Education Center for an evening of amusement and investigation and activities for visitors of all ages.&nbsp\;</div><div>&nbsp\;</div><div>For additional information call 402-223-3514</div>
LOCATION:
UID:e.41.1488
SEQUENCE:3
DTSTAMP:20260425T221410Z
URL:https://business.beatricechamber.com/events/details/howling-homestead-10-24-2009-1488
END:VEVENT

END:VCALENDAR
