BEGIN:VCALENDAR
VERSION:2.0
PRODID:-//ChamberMaster//Event Calendar 2.0//EN
METHOD:PUBLISH
X-PUBLISHED-TTL:P3D
REFRESH-INTERVAL:P3D
CALSCALE:GREGORIAN
BEGIN:VEVENT
DTSTART;VALUE=DATE:20111022
DTEND;VALUE=DATE:20111023
TRANSP:TRANSPARENT
X-MICROSOFT-CDO-ALLDAYEVENT:TRUE
SUMMARY:Howling Homestead Trail Run
DESCRIPTION:Howling Homestead Trail Run\n\nhosted by The Homestead Running Club and Homestead National Monument of America\n\n\n\nSaturday\, October 22\n\n9 am\n\n\n\nEntry fee: $10 for the one-mile race and $18 for the four or six mile courses.  Families of four or more receive a $10 discount.  Fees include a tshirt and post race refreshments.  Registrations postmarked or recieved later than October 14 will add $5. \n\n\n\nParticipants are encouraged to pre-register for the race.  Race-day registration will take place at the interesection of Hwy 4 and 75th Road directly east of the Heritage Center beginning at 8 am.  The race will begin just to the east of the Education Center and follow the trails across the restored tall-grass prairie.\n\n\n\nAll one-mile runners 12 and under will receive a participant medal.  The top five finishers in the men's and women's races in both four and six mile races will receive awards.
X-ALT-DESC;FMTTYPE=text/html:Howling Homestead Trail Run<br />\nhosted by The Homestead Running Club and Homestead National Monument of America<br />\n<br />\nSaturday\, October 22<br />\n9 am<br />\n<br />\nEntry fee: $10 for the one-mile race and $18 for the four or six mile courses.&nbsp\; Families of four or more receive a $10 discount.&nbsp\; Fees include a tshirt and post race refreshments.&nbsp\; Registrations postmarked or recieved later than October 14 will add $5.&nbsp\;<br />\n<br />\nParticipants are encouraged to pre-register for the race.&nbsp\; Race-day registration will take place at the interesection of Hwy 4 and 75th Road directly east of the Heritage Center beginning at 8 am.&nbsp\; The race will begin just to the east of the Education Center and follow the trails across the restored tall-grass prairie.<br />\n<br />\nAll one-mile runners 12 and under will receive a participant medal.&nbsp\; The top five finishers in the men&#39\;s and women&#39\;s races in both four and six mile races will receive awards.&nbsp\; 
LOCATION:
UID:e.41.5127
SEQUENCE:3
DTSTAMP:20260424T111310Z
URL:https://business.beatricechamber.com/events/details/howling-homestead-trail-run-10-22-2011-5127
END:VEVENT

END:VCALENDAR
