BEGIN:VCALENDAR
VERSION:2.0
PRODID:-//ChamberMaster//Event Calendar 2.0//EN
METHOD:PUBLISH
X-PUBLISHED-TTL:P3D
REFRESH-INTERVAL:P3D
CALSCALE:GREGORIAN
BEGIN:VEVENT
DTSTART:20091103T220000Z
DTEND:20091104T000000Z
X-MICROSOFT-CDO-ALLDAYEVENT:FALSE
SUMMARY:Humana Starlight Award
DESCRIPTION:Humana Starlight Award\n\nHumana Starlight Award honors an exceptional senior volunteer whose giving spirit brightens the lives of others while providing financial support for an organization whose good works benefit one or more communities in Omaha/Lincoln.\n\nThrough the Humana Starlight Award\, Humana will honor a senior volunteer and donate a one-time $10\,000 grant to a qualifying nonprofit organization of the award recipient?s choice.\n\nThe Humana Starlight Award recipient is selected by a panel of judges made up of community leaders\, public officials\, and local executives.\n\nFor more information\, visit www.Humana.com/Starlight.\nIf you have questions\, contact a Humana Starlight Award representative at StarlightOmaha_Lincoln@humana.com or 800-941-1182.
X-ALT-DESC;FMTTYPE=text/html:Humana Starlight Award\n\nHumana Starlight Award honors an exceptional senior volunteer whose giving spirit brightens the lives of others while providing financial support for an organization whose good works benefit one or more communities in Omaha/Lincoln.\n\nThrough the Humana Starlight Award\, Humana will honor a senior volunteer and donate a one-time $10\,000 grant to a qualifying nonprofit organization of the award recipient?s choice.\n\nThe Humana Starlight Award recipient is selected by a panel of judges made up of community leaders\, public officials\, and local executives.\n\nFor more information\, visit www.Humana.com/Starlight.\nIf you have questions\, contact a Humana Starlight Award representative at StarlightOmaha_Lincoln@humana.com or 800-941-1182.\n
LOCATION:Regency Marriott Omaha Ne
UID:e.41.1421
SEQUENCE:3
DTSTAMP:20260425T204934Z
URL:https://business.beatricechamber.com/events/details/humana-starlight-award-11-03-2009-1421
END:VEVENT

END:VCALENDAR
