BEGIN:VCALENDAR
VERSION:2.0
PRODID:-//ChamberMaster//Event Calendar 2.0//EN
METHOD:PUBLISH
X-PUBLISHED-TTL:P3D
REFRESH-INTERVAL:P3D
CALSCALE:GREGORIAN
BEGIN:VEVENT
DTSTART:20091017T130000Z
DTEND:20091018T220000Z
X-MICROSOFT-CDO-ALLDAYEVENT:FALSE
SUMMARY:Hunter Education Class - Firth Norris High School
DESCRIPTION:Hunter Education Class will be held at Firth Norris High SchoolSaturday & Sunday\, October 17th & 18thSaturday 8:00 am - 5:00 pmSunday 1:00 pm - 5:00 pm To pass\, each student will need to be present for both days.Pre-Registration is required and the class is limited to 50 students. To register for class:Gage County Extension Office at 402-223-1384 orNebraska Game & Parks Hunter Education at 402-471-5662 FOr more Information\, contact Mike Jochum at 228-0206 orNebraska Game & Parks website under Hunder Education\, Firearm course
X-ALT-DESC;FMTTYPE=text/html:<div>Hunter Education Class will be held at Firth Norris High School</div><div>Saturday &amp\;&nbsp\;Sunday\, October 17th &amp\; 18th</div><div>Saturday 8:00 am - 5:00 pm</div><div>Sunday 1:00 pm - 5:00 pm</div><div>&nbsp\;</div><div>To pass\, each student will need to be present for both days.</div><div>Pre-Registration is required and the class is limited to 50 students.</div><div>&nbsp\;</div><div>To register for class:</div><div>Gage County Extension Office at 402-223-1384 or</div><div>Nebraska Game &amp\;&nbsp\;Parks Hunter Education at 402-471-5662</div><div>&nbsp\;</div><div>FOr more Information\, contact Mike Jochum at 228-0206 or</div><div>Nebraska Game &amp\; Parks website under Hunder Education\, Firearm course</div>
LOCATION:
UID:e.41.1474
SEQUENCE:3
DTSTAMP:20260425T221642Z
URL:https://business.beatricechamber.com/events/details/hunter-education-class-firth-norris-high-school-10-17-2009-1474
END:VEVENT

END:VCALENDAR
