BEGIN:VCALENDAR
VERSION:2.0
PRODID:-//ChamberMaster//Event Calendar 2.0//EN
METHOD:PUBLISH
X-PUBLISHED-TTL:P3D
REFRESH-INTERVAL:P3D
CALSCALE:GREGORIAN
BEGIN:VEVENT
DTSTART;VALUE=DATE:20100220
DTEND;VALUE=DATE:20100222
TRANSP:TRANSPARENT
X-MICROSOFT-CDO-ALLDAYEVENT:TRUE
SUMMARY:Hunter Education Course
DESCRIPTION:Firearm Hunter Education Class Saturday\, February 20\, 8 am - 5 pmSunday\, February 21\, 1 pm - 5 pm\, with live firing Saturday afternoon(participants must attend both days) Gage County Extension OfficeGage County Fairgrounds Pre-registration is required\, class size is limited. For more information\, contact Mike Jochum 402-228-0206.  To sign up for the class\, contact the Gage County Extension Office at 402-223-1384
X-ALT-DESC;FMTTYPE=text/html:<div><span style="font-size: medium">Firearm Hunter Education Class</span></div><div>&nbsp\;</div><div><span style="font-size: medium">Saturday\, February 20\, 8 am - 5 pm</span></div><div><span style="font-size: medium">Sunday\, February 21\, 1 pm - 5 pm\, </span></div><div><span style="font-size: medium">with live firing Saturday afternoon</span></div><div><span style="font-size: medium">(participants must attend both days)</span></div><div>&nbsp\;</div><div><span style="font-size: medium">Gage County Extension Office</span></div><div><span style="font-size: medium">Gage County Fairgrounds</span></div><div>&nbsp\;</div><div><span style="font-size: medium">Pre-registration is required\, class size is limited.&nbsp\;For more information\, contact Mike Jochum 402-228-0206.&nbsp\; To sign up for the class\, contact the Gage County Extension Office at 402-223-1384</span></div><div>&nbsp\;</div>
LOCATION:
UID:e.41.1655
SEQUENCE:3
DTSTAMP:20260425T163702Z
URL:https://business.beatricechamber.com/events/details/hunter-education-course-02-20-2010-1655
END:VEVENT

END:VCALENDAR
