BEGIN:VCALENDAR
VERSION:2.0
PRODID:-//ChamberMaster//Event Calendar 2.0//EN
METHOD:PUBLISH
X-PUBLISHED-TTL:P3D
REFRESH-INTERVAL:P3D
CALSCALE:GREGORIAN
BEGIN:VEVENT
DTSTART;VALUE=DATE:20101230
DTEND;VALUE=DATE:20101231
TRANSP:TRANSPARENT
X-MICROSOFT-CDO-ALLDAYEVENT:TRUE
SUMMARY:Husker Holiday Bowl
DESCRIPTION:Watch the Huskers take on Washington in the Holiday Bowl at one of these locations:\n\n\n\nGames starts at 9 p.m.\n\nThursday\, December 30th\n\n\n\nGibb's Place\n\n1101 S. 6th Street\, Beatrice\n\n\n\nRisky's Sports Bar & Grill\n\n2317 N 6th\, Beatrice\n\n\n\nThe Rail\n\n212 Court\, Beatrice\n\n\n\nThe End Zone Sports Bar\n\n3500 N 6th\, Beatrice (Inside Traveler's Lodge)
X-ALT-DESC;FMTTYPE=text/html:Watch the Huskers take on Washington&nbsp\;in the Holiday Bowl at one of these locations:<br />\n<br />\nGames starts at 9 p.m.<br />\nThursday\, December 30th<br />\n<br />\nGibb&#39\;s Place<br />\n1101 S. 6th Street\, Beatrice<br />\n<br />\nRisky&#39\;s Sports Bar &amp\; Grill<br />\n2317 N 6th\, Beatrice<br />\n<br />\nThe Rail<br />\n212 Court\, Beatrice<br />\n<br />\nThe End Zone Sports Bar<br />\n3500 N 6th\, Beatrice (Inside Traveler&#39\;s Lodge)
LOCATION:
UID:e.41.3155
SEQUENCE:3
DTSTAMP:20260425T014109Z
URL:https://business.beatricechamber.com/events/details/husker-holiday-bowl-12-30-2010-3155
END:VEVENT

END:VCALENDAR
