BEGIN:VCALENDAR
VERSION:2.0
PRODID:-//ChamberMaster//Event Calendar 2.0//EN
METHOD:PUBLISH
X-PUBLISHED-TTL:P3D
REFRESH-INTERVAL:P3D
CALSCALE:GREGORIAN
BEGIN:VEVENT
DTSTART:20120830T161500Z
DTEND:20120830T180000Z
X-MICROSOFT-CDO-ALLDAYEVENT:FALSE
SUMMARY:Husker Insight Luncheon
DESCRIPTION:The Thursday before each Husker Football game at Aunt Mary's beginning August 30th:\n\n\n\n11:15-11:30 a.m.-- Lunch Buffet (similar to tailgate menu\, including dessert)\n\n\n\n12:00-1:00 p.m.-- Presentation by Sean Callahan of HuskerOnline.com who covers a lot of press for UNL & Steve Sipple of Lincoln Journal Star give their insights each week of the season. It is a question/answer session.\n\n\n\nIt is being hosted with KWBE.
X-ALT-DESC;FMTTYPE=text/html:The Thursday before each Husker Football game at Aunt Mary&#39\;s beginning August 30th:<br />\n<br />\n11:15-11:30 a.m.-- Lunch Buffet (similar to tailgate menu\, including dessert)<br />\n<br />\n12:00-1:00 p.m.-- Presentation by Sean Callahan of HuskerOnline.com who covers a lot of press for UNL&nbsp\;&amp\; Steve Sipple of Lincoln&nbsp\;Journal Star give their insights each week of the season. It is a question/answer session.<br />\n<br />\nIt is being hosted with KWBE.
LOCATION:Aunt Mary's Center 111 S. 8th St. Beatrice\, NE 68310
UID:e.41.6603
SEQUENCE:3
DTSTAMP:20260422T100254Z
URL:https://business.beatricechamber.com/events/details/husker-insight-luncheon-08-30-2012-6603
END:VEVENT

END:VCALENDAR
