BEGIN:VCALENDAR
VERSION:2.0
PRODID:-//ChamberMaster//Event Calendar 2.0//EN
METHOD:PUBLISH
X-PUBLISHED-TTL:P3D
REFRESH-INTERVAL:P3D
CALSCALE:GREGORIAN
BEGIN:VEVENT
DTSTART:20120909T160000Z
DTEND:20120909T180000Z
X-MICROSOFT-CDO-ALLDAYEVENT:FALSE
SUMMARY:Ice Cream Social
DESCRIPTION:Our Savior's Lutheran Church's Luther League will be hosting its annual ice cream social. The Students will be serving homemade ice cream\, sloppy joes\, sides\, and dessert.
X-ALT-DESC;FMTTYPE=text/html:Our Savior&#39\;s Lutheran Church&#39\;s Luther League will be hosting its annual ice cream social. The Students will be serving homemade ice cream\, sloppy joes\, sides\, and dessert.
LOCATION:Our Savior Lutheran Church 11th and L streets Wymore\, NE
UID:e.41.6627
SEQUENCE:3
DTSTAMP:20260422T090658Z
URL:https://business.beatricechamber.com/events/details/ice-cream-social-09-09-2012-6627
END:VEVENT

END:VCALENDAR
