BEGIN:VCALENDAR
VERSION:2.0
PRODID:-//ChamberMaster//Event Calendar 2.0//EN
METHOD:PUBLISH
X-PUBLISHED-TTL:P3D
REFRESH-INTERVAL:P3D
CALSCALE:GREGORIAN
BEGIN:VEVENT
DTSTART:20110918T210000Z
DTEND:20110918T230000Z
X-MICROSOFT-CDO-ALLDAYEVENT:FALSE
SUMMARY:Ice Cream Social
DESCRIPTION:Ice Cream Social\n\n\n\nSunday\, September 18\n\n4 - 6 pm\n\n\n\nEllis United Methodist Church\n\n\n\nSloppy Joe sandwich & chips\, ice cream\, brownies\, bars and cookies for a free will donation.
X-ALT-DESC;FMTTYPE=text/html:Ice Cream Social<br />\n<br />\nSunday\, September 18<br />\n4 - 6 pm<br />\n<br />\nEllis United Methodist Church<br />\n<br />\nSloppy Joe sandwich &amp\; chips\, ice cream\, brownies\, bars and cookies for a free will donation.
LOCATION:
UID:e.41.5115
SEQUENCE:3
DTSTAMP:20260424T122946Z
URL:https://business.beatricechamber.com/events/details/ice-cream-social-09-18-2011-5115
END:VEVENT

END:VCALENDAR
