BEGIN:VCALENDAR
VERSION:2.0
PRODID:-//ChamberMaster//Event Calendar 2.0//EN
METHOD:PUBLISH
X-PUBLISHED-TTL:P3D
REFRESH-INTERVAL:P3D
CALSCALE:GREGORIAN
BEGIN:VEVENT
DTSTART:20110821T220000Z
DTEND:20110822T010000Z
X-MICROSOFT-CDO-ALLDAYEVENT:FALSE
SUMMARY:Ice Cream Social and Dessert Bar "Talent Show" and Silent Auction
DESCRIPTION:5-8 p.m.\, Filley American Lutheran Church.  Freewill offering and auction proceeds to ELCA Disaster Fund.  Showcasting talent from area churches at 6 p.m.  Bring lawn chairs.  In case of inclement weather\, event will be moved inside.
X-ALT-DESC;FMTTYPE=text/html:5-8 p.m.\, Filley American Lutheran Church.&nbsp\; Freewill offering and auction proceeds to ELCA Disaster Fund.&nbsp\; Showcasting talent from area churches at 6 p.m.&nbsp\; Bring lawn chairs.&nbsp\; In case of inclement weather\, event will be moved inside.
LOCATION:
UID:e.41.5047
SEQUENCE:3
DTSTAMP:20260424T141136Z
URL:https://business.beatricechamber.com/events/details/ice-cream-social-and-dessert-bar-talent-show-and-silent-auction-08-21-2011-5047
END:VEVENT

END:VCALENDAR
