BEGIN:VCALENDAR
VERSION:2.0
PRODID:-//ChamberMaster//Event Calendar 2.0//EN
METHOD:PUBLISH
X-PUBLISHED-TTL:P3D
REFRESH-INTERVAL:P3D
CALSCALE:GREGORIAN
BEGIN:VEVENT
DTSTART:20110807T160000Z
DTEND:20110807T180000Z
X-MICROSOFT-CDO-ALLDAYEVENT:FALSE
SUMMARY:Ice Cream Social Luncheon
DESCRIPTION:11 a.m.-1 p.m.  St. Paul Lutheran School\, 930 Prairie Lane\, Beatrice.  Menu:  sloppy joe's\, hot dogs\, baked beans\, homemade ice cream prepared by by Tracy Crawford and other homemade desserts.  Freewill donations go to St. Paul Lutheran Church radio broadcasts and to Immanuel Lutheran Church and their schoo who were in the Joplin\, MO tornado disaster.
X-ALT-DESC;FMTTYPE=text/html:11 a.m.-1 p.m.&nbsp\; St. Paul Lutheran School\, 930 Prairie Lane\, Beatrice.&nbsp\; Menu:&nbsp\; sloppy joe&#39\;s\, hot dogs\, baked beans\, homemade ice cream prepared by by Tracy Crawford and other homemade desserts.&nbsp\; Freewill donations go to St. Paul Lutheran Church radio broadcasts and to Immanuel Lutheran Church and their schoo who were in the Joplin\, MO tornado disaster.
LOCATION:
UID:e.41.5003
SEQUENCE:3
DTSTAMP:20260424T134546Z
URL:https://business.beatricechamber.com/events/details/ice-cream-social-luncheon-08-07-2011-5003
END:VEVENT

END:VCALENDAR
